BEGIN:VCALENDAR
VERSION:2.0
PRODID:-//kirjastotfi/procal//NONSGML v1.0//EN
BEGIN:VEVENT
DTSTART:20240514T130000
DTEND:20240514T143000
SUMMARY:14.5.2024 Kansalliskirjaston webinaari kuntien yhteisestä E-kirjastosta
DESCRIPTION:<p>Marja Hjelt kertoo, kuinka kuntien yhteinen E-kirjastopalvelu on lähtenyt käyntiin, miten siihen pääsee vielä mukaan, kuinka sinne kirjaudutaan, mitä se käytännössä tarkoittaa ja vastaa mieltä askarruttaviin kysymyksiin. Tule mukaan kuulemaan ja kysymään!</p>

<p>Tilaisuus on suomeksi.</p>

<p>Voit ilmoittautua&nbsp;<a href="https://forms.office.com/Pages/ResponsePage.aspx?id=PAeQyu7Y7Ea1fLRoO7tCy--gK3v3uVdMhb1Nw54eCtBURDRYSVA1QTA1S0VNTEhHUEVMNEVLU01GUS4u">täältä</a></p>

LOCATION:Teams
END:VEVENT
END:VCALENDAR