BEGIN:VCALENDAR
VERSION:2.0
PRODID:-//kirjastotfi/procal//NONSGML v1.0//EN
BEGIN:VEVENT
DTSTART:20240426T100000
DTEND:20240426T160000
SUMMARY:Musiikkikirjastoyhdistyksen kevätseminaari Tampereella 26.4.
DESCRIPTION:<h2><strong>Tervetuloa Suomen musiikkikirjastoyhdistyksen&nbsp;kevätseminaariin Tampereelle!</strong></h2>

<h3>Perinteinen kevätseminaari järjestetään Tampereen Metsossa (Lehmus-Sali) <strong>perjantaina 26. huhtikuuta 2024 klo 10­–16</strong>. <a href="https://docs.google.com/forms/d/e/1FAIpQLSfj-ZjVU5CCkzwR9JT7q8WDxlL1cgno2gNDbHcrOZlbdEWWYg/viewform">Ilmoittaudu mukaan</a>!</h3>

<p>Suomen musiikkirjastoyhdistys täyttää tänä vuonna 45 vuotta. Merkkivuoden kunniaksi yhdistys on kutsunut mukaan yhdistyksen entisiä puheenjohtajia. Luvassa on muistoja, mielipiteitä ja keskustelua. Iltapäivällä kerrotaan Vapriikin Manserock-näyttelystä ja sen taustoista. Lisäksi kuullaan esitelmä Rovaniemen markkinoiden menneistä äänimaisemista.</p>

<p>Vapaa pääsy. Tervetuloa mukaan!</p>

<p><strong>Ohjelma</strong></p>

<p>10.00<br />
Puheenjohtajan ja Metson tervehdyssanat<br />
Marko Niemelä<br />
Juhani Koivisto</p>

<p>10.10–12.00<br />
Yhdistyksen entiset puheenjohtajat</p>

<p>Jaska Järvilehto<br />
Tuomas Pelttari<br />
Heikki Poroila</p>

<p>Keskustelua</p>

<p>12.00–13.00<br />
Omakustanteinen lounas</p>

<p>13.00–13.15<br />
Työryhmien kuulumiset</p>

<p>Musiikkioppilaitoskirjastolaisten työryhmä Muska ja Intervalli-lehden päätoimittaja&nbsp;Tiina Tolonen kertovat viimeisimmät kuulumiset.</p>

<p>13.15<br />
Manse-rock</p>

<p>Vapriikin kokoelmapäällikkö Teemu Ahola ja Eppu Normaalin kitaristi Juha Torvinen kertovat näyttelyn taustoista</p>

<p>14.00<br />
Kirjastopalvelun tervehdys + kahvit</p>

<p>14.30<br />
Huumaava äänten pauhu</p>

<p>Marko Niemelä esittelee väitöskirjaansa Rovaniemen markkinoiden äänimaisemista 1881–1930.</p>

<p>15.00<br />
Loppukeskustelu<br />
<br />
<strong>Ilmoittautuminen <a href="https://docs.google.com/forms/d/e/1FAIpQLSfj-ZjVU5CCkzwR9JT7q8WDxlL1cgno2gNDbHcrOZlbdEWWYg/viewform">kevätseminaariin</a><br />
Musiikkikirjastoyhdistyksen</strong>&nbsp;<strong><a href="https://www.musiikkikirjastot.fi/musiikkipalvelut/suomen-musiikkikirjastoyhdistys/">kotisivu</a>,</strong>&nbsp;<strong><a href="https://www.facebook.com/musiikkikirjastoyhdistys">Facebook</a>&nbsp;ja <a href="https://www.musiikkikirjastot.fi/musiikkipalvelut/suomen-musiikkikirjastoyhdistys/seminaarit/">seminaarit</a></strong><br />
<strong>Intervalli-lehden</strong> <a href="https://www.musiikkikirjastot.fi/musiikkipalvelut/suomen-musiikkikirjastoyhdistys/intervalli/"><strong>kotisivu</strong></a></p>

LOCATION:Pääkirjasto Metso, Lehmus-sali
END:VEVENT
END:VCALENDAR