BEGIN:VCALENDAR
VERSION:2.0
PRODID:-//kirjastotfi/procal//NONSGML v1.0//EN
BEGIN:VEVENT
DTSTART:20240424T100000
DTEND:20240424T110000
SUMMARY:Ertes distanstips: Mysterietåget och läskampanjerna
DESCRIPTION:<h2><strong>27.4 Ertes distanstips: Mysterietåget och läskampanjerna</strong></h2>

<p>Vi ordnar distanstips digitalt på svenska&nbsp;27.4 kl 10-11.</p>

<p><strong><span><span><span><span>PROGRAM 24.4.2024</span></span></span></span></strong><br />
<br />
<span><span>kl. 10.00–10.30<br />
<span><span>Nicolina Zilliacus-Korsström</span></span><br />
<strong><span><span><span>Mysterietåget - ett rymningsspel från Yle</span></span></span></strong><br />
<br />
kl 10.30–11.00<br />
Lena Sågfors:<br />
<strong><span><span>Sommarens läskampanjer</span></span></strong><br />
<span><span>Lena presenterar sommarens läskampanjer för barn och unga som fritt får användas av biblioteken.</span></span></span></span></p>

<p>Välkommen med eller beställ inspelningen! Alla som anmäler sig får en länk till inspelningen som kan ses i 12 dagar.</p>

<p><strong><a href="https://link.webropolsurveys.com/EP/44FCF42E978DA3BE">Anmälan öppen</a>!</strong></p>

LOCATION:Microsoft Teams
END:VEVENT
END:VCALENDAR