BEGIN:VCALENDAR
VERSION:2.0
PRODID:-//kirjastotfi/procal//NONSGML v1.0//EN
BEGIN:VEVENT
DTSTART:20240305T140005
DTEND:20240305T140010
SUMMARY:RDA-kuvailusääntöjen esittelyt käyttöönoton tukena
DESCRIPTION:<p>Hei,</p>

<p>Kansalliskirjaston Kuvailusääntöpalvelu jatkaa tänä keväänä uudistuneita RDA-kuvailusääntöjä esittelevien videoiden julkaisua.</p>

<ul>
	<li>Ensimmäisenä julkaisemme RDA:han sisällytettyjen hallinnollisten metatietojen (provenienssitietojen) esittelyn maaliskuussa.</li>
	<li>Huhtikuussa jatkamme viime syksynä aloittamaamme kartta-aineiston RDA-kuvailun esittelyä.</li>
	<li>Toukokuun videotallenteen aiheena on RDA Toolkitin rakenne ja uusin sisältö.</li>
	<li>Kesäkuussa kertaamme, miten tehdään kansallisia ja kansainvälisiä muutosehdotuksia RDA:han.</li>
</ul>

<p>Koulutussuunnitelma sekä linkit videotallenteisiin ja esitysdioihin löytyvät <a href="https://www.kiwi.fi/x/iYIpFw">RDA-koulutussivulta</a>.</p>

<p>Kuvailusääntöpalvelu on järjestänyt uudistunutta RDA:ta esitteleviä koulutuksia kolmen vuoden ajan:</p>

<ul>
	<li>19 verkkoon tuotettua tallennetta</li>
	<li>6 tallennettua etätilaisuutta, joissa yhteensä 12 esitystä</li>
	<li>1440 videotallenteiden katselukertaa.</li>
</ul>

<p>Linkit tallenteisiin ja esitysdioihin löytyvät Kuvailusääntöpalvelun <a href="https://www.kiwi.fi/x/3oMhE">RDA-verkkosivuilta</a>.</p>

<p>Esittelevät koulutukset antavat käsityksen keskeisistä uutuuksista ja aineistotyyppikohtaisista muutoksista siirryttäessä käyttämään uudistunutta <a href="https://access.rdatoolkit.org/">RDA Toolkit</a> -palvelua. Esittelyt on suunnattu jo kuvailua osaaville eivätkä siten ole kuvailun peruskoulutusta. Kysymyksiä ja ehdotuksia koulutuksiin liittyen voi lähettää Kuvailusääntöpalvelun osoitteeseen: kuvailusaannot-posti[at]helsinki.fi</p>

LOCATION:
END:VEVENT
END:VCALENDAR