BEGIN:VCALENDAR
VERSION:2.0
PRODID:-//kirjastotfi/procal//NONSGML v1.0//EN
BEGIN:VEVENT
DTSTART:20240212T100000
DTEND:20240212T114000
SUMMARY:Missä Mennään -webinaari
DESCRIPTION:<p>Tervetuloa Kansalliskirjaston järjestämään Missä mennään -webinaariin.<br />
Webinaari järjestetään <strong>ti 13.2.2024 klo 10-11.40.</strong><br />
Tapahtumalinkki lähetetään osallistujille ilmoittautumisajan loputtua.<br />
<br />
Webinaarin aiheet ja aikataulu löytyvät <a href="https://www.kiwi.fi/x/I4BcFg">ohjelmasivulta</a>.<br />
Tilaisuuteen osallistutaan Zoom-etäyhteydellä, <a href="https://www.kiwi.fi/display/etaosallistuminen">tässä ohjeet osallistumiseen</a>.</p>

<p><br />
<a href="https://www.lyyti.fi/reg/mm2401">Ilmoittautuminen sulkeutuu 12.2. klo 12.</a></p>

LOCATION:Zoom
END:VEVENT
END:VCALENDAR