BEGIN:VCALENDAR
VERSION:2.0
PRODID:-//kirjastotfi/procal//NONSGML v1.0//EN
BEGIN:VEVENT
DTSTART:20240320T083000
DTEND:20240320T150000
SUMMARY:Kokoelmapuhe ja poistaminen
DESCRIPTION:<p><strong>Oulun Aken järjestämien koulutusten teemana vuonna 2024 on kokoelmat. Kevään koulutuksessa puhujana ammattijärjestäjä Ilana Aalto, katsotaan tallenne Kaisa Hypènin esityksestä Poistakaa tuo kaameus kokoelmistanne, kuullaan kokoelmatyöstä erilaisten kokoelmien parissa ja saadaan tilastokatsaus.</strong><br />
&nbsp;</p>

<p><a href="https://kirjastossatavataan.fi/event-posts/kokoelmapuhe-ja-poistaminen/"><strong>Päivän ohjelma ja ilmoittautuminen</strong></a></p>

<p>&nbsp;</p>

LOCATION:Verkkokoulutus
END:VEVENT
END:VCALENDAR