BEGIN:VCALENDAR
VERSION:2.0
PRODID:-//kirjastotfi/procal//NONSGML v1.0//EN
BEGIN:VEVENT
DTSTART:20231121T100000
DTEND:20231121T112000
SUMMARY:Missä Mennään -webinaari
DESCRIPTION:<p>Vuoden viimeinen Kansalliskirjaston järjestämä Missä Mennään -webinaari pidetään tiistaina 21.11. kello 10-11.20 Zoom-etäyhteydellä.</p>

<p>Tällä kertaa kuulemme FAIR-periaatteista, Digi.kansalliskirjasto.fi:n lataustyökalusta, linkitetyn kirjastodatan tietomallista sekä FinELibin Exit Planista.</p>

<p><a href="https://www.lyyti.in/mm1123">Ilmoittautuminen sulkeutuu 20.11. klo 10:00.</a></p>

<p><a href="https://www.kiwi.fi/x/zIBmEg">Ohjelmasivulta löydät tarkemmat tiedot.</a> Esitykset sekä tallenteen linkki lisätään tapahtuman jälkeen ohjelmasivulle. Samalta sivustolta voit selata aiempia Missä mennään -webinaareja.</p>

<p>Tervetuloa mukaan!</p>

<p>Ystävällisin terveisin,</p>

<p>Laura Lipponen</p>

<p>Koulutussihteeri</p>

LOCATION:Zoom
END:VEVENT
END:VCALENDAR