BEGIN:VCALENDAR
VERSION:2.0
PRODID:-//kirjastotfi/procal//NONSGML v1.0//EN
BEGIN:VEVENT
DTSTART:20231127T130000
DTEND:20231127T153000
SUMMARY:Metatietowebinaari 27.11.
DESCRIPTION:<p>Kirjastoissa ollaan siirtymässä kohti linkitettyä kirjastodataa ja BIBFRAME tulee korvaamaan MARC21-formaatin. Vaikka muutos vaatii vielä joitakin vuosia, kannattaa kirjastoissa varautua siihen jo nyt.</p>

<p>Kohti metatietovisiota -jatkoprojekti järjestää webinaarin, jossa metatiedon muutoksia ennakoidaan eri näkökulmista:</p>

<ul>
	<li>BIBFRAMEn kansallinen versio / Matias Frosterus, Linkitetty kirjastodata -projekti, Kansalliskirjasto</li>
	<li>Kirjastojärjestelmätoimittajien näkökulma
	<ul>
		<li>Esa Peltonen, Axiell Finland</li>
		<li>Ari Mäkiranta, Koha-Suomi Oy</li>
	</ul>
	</li>
	<li>Kirjaston digiperusta ja kirjastojärjestelmän kilpailutukseen valmistautuminen / Anne-Mari Heiniölä, Helsingin kaupungin digitalisaatiokehitysyksikkö</li>
	<li>Ensimmäiset puoli vuotta linkitetyn kirjastodatan kuvailua Qurialla / Sari Kaunisto, Vaasan kaupunginkirjasto</li>
</ul>

<p>Ilmoittaudu webinaariin <a href="https://link.webropolsurveys.com/S/DD42445C64DE6293">tästä linkistä</a> 24.11. mennessä. Webinaari tallennetaan ja tallenne on katsottavissa 8.12. asti. Ilmoittaudu myös, jos haluat katsoa vain tallenteen.</p>

<p>Tervetuloa kuulemaan ja keskustelemaan metatiedon tulevaisuudesta!</p>

LOCATION:
END:VEVENT
END:VCALENDAR