BEGIN:VCALENDAR
VERSION:2.0
PRODID:-//kirjastotfi/procal//NONSGML v1.0//EN
BEGIN:VEVENT
DTSTART:20231208T083000
DTEND:20231208T153000
SUMMARY:Musiikin valinnat 2023
DESCRIPTION:<p><strong>PiKe-alueen kirjastojen musiikkiosaajat luovat silmäyksen vuoden 2023 keskeisimpiin musiikkisisältöihin. Päivä tarjoaa läpivalaisun tänä vuonna ilmestyneisiin musiikin aineistoihin laajasti eri genreistä sekä musiikin tyylilajeista – äänitteitä, nuotteja ja musiikkikirjoja. Myös musiikin tekemiseen liittyvä oheistuotanto ja harrastustilatoiminta pääsevät käsittelyyn.</strong></p>

<p>Tilaisuuden avaa lauluntekijä, muusikko ja kirjailija <strong>Kyösti Salokorven</strong>&nbsp;puheenvuoro musiikkialalta ja keskustelu teemoista. Tämän jälkeen vuorossa ovat kirjastoaineistot ja nostoista kiinnostavimmat vuodelta 2023 kirjastoammattilaisten ja Ossi Valpion (TUFF! ry) esitteleminä. Tervetuloa mukaan seuraamaan, tapaamaan musiikikirjastotyön kollegoita ja keskustelemaan!</p>

<h2>Opiskelumateriaalit</h2>

<p>Tilaisuuden materiaalit ja tallenteet tulevat jaettavaksi jälkikäteen akepiken opiskelumateriaalien kautta.</p>

<h2>Aika, paikka ja ilmoittautuminen</h2>

<p><strong>Musiikin valinnat 2023<br />
Pe 8.12.2023<br />
Klo 8.30–15.30<br />
Lehmus-sali / Etälähetys</strong></p>

<p><a href="https://elomake.tampere.fi/lomakkeet/28610/lomake.html">Ilmoittaudu mukaan oheisella lomakkeella 30.11. mennessä.</a>&nbsp;Ilmoittautumisen yhteydessä pääset valitsemaan tarkemmin osallistumistapasi. Kannustamme kuitenkin vahvasti seuraamaan tilaisuutta paikan päällä Tampereella.</p>

<h2>Ohjelma</h2>

<p>Klo 9.00–9.40 Populaarimusiikki ja sanoittajuus /&nbsp;<strong>Kyösti Salokorpi</strong>, lauluntekijä, muusikko, kirjailija</p>

<p><em>Klo 9.40–9.50 Keskustelu</em></p>

<p>Klo 9.50–10.30 Toivo on timanttia! Hengellisen populaarimusiikin valinnat /&nbsp;<strong>Marjaana</strong>&nbsp;<strong>Hietala</strong>, tietopalvelusihteeri (Tampereen kaupunginkirjasto)</p>

<p>Klo 10.30–11.00 Kiinnostavimmat nuottiuutuudet 2023 /&nbsp;<strong>Ilona</strong>&nbsp;<strong>Heinonen</strong>, kirjastonhoitaja (Tampereen kaupunginkirjasto)</p>

<p><em>Klo 11.00–11.10 Keskustelu</em></p>

<p>Klo 11.10–11.40 Sihinät, suhinat sekä marginaalisemmat 78.89-johdannaiset /&nbsp;<strong>Mikko</strong><strong>Salonen</strong>, kirjastonhoitaja (Tampereen kaupunginkirjasto)</p>

<p><strong>Klo 11.30–12.30&nbsp;</strong><em><strong>Lounastauko (Omakustanteinen)</strong></em></p>

<p>Klo 12.30–13.00 Hiphop -nostoja kuluvan vuoden ajalta /&nbsp;<strong>Ossi Valpio</strong>, toiminnanjohtaja (TUFF! ry)</p>

<p>Klo 13.00–13.30 Klassista kaanonin ulkopuolelta /&nbsp;<strong>Ilari</strong>&nbsp;<strong>Reuhkala</strong>, kirjastonhoitaja (Kangasalan kaupunginkirjasto)</p>

<p><em>Klo 13.30–13.45 Keskustelu ja kahvitauko</em></p>

<p>Klo 13.45–14.30 Musiikin elämäkerrat 2023 /&nbsp;<strong>Aapo</strong>&nbsp;<strong>Ruuttunen</strong>&nbsp;ja&nbsp;<strong>Tiiu</strong>&nbsp;<strong>Koistinen</strong>, informaatikko (Jyväskylän kaupunginkirjasto)</p>

<p>Klo 14.30–15.00 Miten kirjaston musiikkitapahtumat syyskaudella 2023 valikoituivat/&nbsp;<strong>Juhani Koivisto,</strong>&nbsp;kirjastonhoitaja (Tampereen kaupunginkirjasto)</p>

<p>Klo 15.00–15.30&nbsp;Harrastustiloista musiikin tuotannossa ja oheistuotannossa /&nbsp;<strong>Kalle</strong>&nbsp;<strong>Lehtinen</strong>, mediasihteeri (Tampereen kaupunginkirjasto)</p>

<h2>Lisätiedot</h2>

<p>Koordinaattori Juliaana Grahn<br />
040 800 7828 / juliaana.grahn(a)tampere.fi</p>

<p><em>Tilaisuuden järjestää Tampereen kaupunginkirjasto. Tampereen kaupunginkirjastolla on alueellinen kehittämistehtävä Pirkanmaan ja Keski-Suomen alueella. Kuvat ja tunnelmat somessa, käytä tunnistetta: #akepike.</em></p>

LOCATION:Tampere
END:VEVENT
END:VCALENDAR