BEGIN:VCALENDAR
VERSION:2.0
PRODID:-//kirjastotfi/procal//NONSGML v1.0//EN
BEGIN:VEVENT
DTSTART:20231107T123000
DTEND:20231107T150000
SUMMARY:Työkaluja oppimisen arkeen - Liboppi-rohkaisuiltapäivä
DESCRIPTION:<p>AKE-kirjastot järjestävät 7.11. klo 12.30–15.00 yhteisen Liboppi-iltapäivän, jossa mietitään keinoja hyödyntää entistä paremmin Liboppia omassa työssä. Iltapäivä toteutetaan etänä Zoomissa.</p>

<p>Annu Karkama Mukamas Learning Designilta kutsuu mukaan ravistelemaan käsityksiä työssä oppimisesta ja löytämään vinkkejä oman oppimisen edistämiseen arjessa. Innostavan ja osallistavan puheenvuoron myötä pääset kuulemaan ajatuksia oppimiseen liittyvistä uskomuksista, taidoista ja käytännön työkaluista, joiden avulla saadaan niin Liboppi kuin muukin oppiminen arjen tavoitettavaksi, pienin askelin!</p>

<p>Tauon jälkeen siirrytään uusien Liboppi-sisältöjen pariin. Kuulemme esittelyt kahdesta uudesta kurssista.</p>

<ul type="1">
	<li>Kokoelmatyön ytimessä on itsenäinen jatko-osa aikaisemmin julkaistuun Kohti kokoelmatyötä -verkkokurssiin. Kurssi keskittyy nimensä mukaisesti kokoelmatyön perusasioihin eli aineiston valintaan, poistotyöhön sekä kokoelmanhoidolliseen osaamiseen.</li>
	<li>Seniorityö kirjastossa kertoo ikääntyvien kohtaamisesta, seniorityön verkostoista, hankkeista, sisällöistä ja kulttuuritarjonnasta. Kurssilla neuvotaan digiopastuksen aloittamisessa ja tapahtumien järjestämisessä. Kurssi on tällä hetkellä testattavana ja se julkaistaan marraskuun aikana.</li>
</ul>

<h2>Ohjelma</h2>

<p>12.30 Tervetuloa! AKE-kirjastojen Liboppi-toimikunta</p>

<p>12.40–13.45 Minä oppijana. Annu Karkama, Mukamas Learning Design</p>

<p>13.45–14.00 Tauko</p>

<p>14.00–15.00 Uudet sisällöt haltuun!</p>

<ul>
	<li>Kokoelmatyön ytimessä – valinnasta poistoon. Aija Laine, valtakunnalliset kehittämispalvelut; Noora Oluikpe, Lahden AKE; Hanna Hyttinen, AKE Joensuu</li>
	<li>Seniorityö kirjastossa. Oili Turja, opiskelija, SeAMK.</li>
</ul>

<h2>Tuleeko tallenne?</h2>

<p>Esityksiä ei tallenneta.</p>

<h2>Kenelle?</h2>

<p>Koulutusiltapäivä on avoin kaikille Libopista ja sen sisällöistä kiinnostuneille ympäri Suomen. Kannustamme liittymään mukaan oppivaan joukkoon erityisesti, jos Liboppi-oppimisalusta on vielä sinulle vieras.</p>

<p>Ilmoittaudu mukaan 2.11. mennessä&nbsp;<a href="https://link.webropolsurveys.com/ep/rohkaisu">tästä linkistä</a>.</p>

LOCATION:Zoom
END:VEVENT
END:VCALENDAR