BEGIN:VCALENDAR
VERSION:2.0
PRODID:-//kirjastotfi/procal//NONSGML v1.0//EN
BEGIN:VEVENT
DTSTART:20240119T090000
DTEND:20240119T160000
SUMMARY:Kirjakutsut 2024
DESCRIPTION:<p><strong>Kirjakutsut täyttävät 20 vuotta! PiKe-alueen huippuammattilaiset esittelevät vuoden 2023 lasten- ja nuortenkirjasatoa koulutustilaisuudessa tammikuussa 2024. <strong>Tänä vuonna tilaisuus on yksipäiväinen.</strong></strong> <strong>Luvassa on kattava ja tehokas katsaus vuoden parhaimpiin ja kiinnostavimpiin teoksiin usean tamperelaisen, yhden kangasalalaisen, kahden jyväskyläläisen, yhden muuramelaisen ja vierailevien puhujien voimin. Ja koska kyseessä on juhlavuosi, on mukana myös muuta kiinnostavaa ohjelmaa ja muisteluksia vuosien varrelta. Tervetuloa mukaan juhlahumuun juhlimaan eeppisiä kirjakutsuja!</strong></p>

<h2>Aika, paikka ja ilmoittautuminen</h2>

<p><strong>Kirjakutsut 2024<br />
Pe 19.1.2024<br />
Metso, Lehmus</strong></p>

<p>Kirjakutsut 2024 järjestetään pääkirjasto Metson Lehmus-salissa. Puheenvuorot tallennetaan ja jaetaan myöhemmin akepike.fi-sivuston opiskelumateriaaleissa.</p>

<p><a href="https://elomake.tampere.fi/lomakkeet/28690/lomake.html">Ilmoittaudu tilaisuuteen 5.1.2024 mennessä tällä lomakkeella.</a></p>

<h2>Ohjelma pe 19.1.2024</h2>

<p>Klo 9.00–9.20 Aamukahvia tarjolla Metson Lehmus-salissa</p>

<p>Klo 9.20–9.30 Tervetuloa 20-vuotiaille Kirjakutsuille! / <strong>Katariina Ahtiainen</strong></p>

<p>Klo 9.30–10.00 20-vuotiskatsaus lastenkirjallisuuteen / <strong>Päivi Heikkilä-Halttunen</strong></p>

<p>Klo 10.00–10.10 Tauko ja lautapeli -pop up / <strong>Pekka Ollikainen</strong> ja <strong>Paula Räty</strong></p>

<p>Klo 10.10–10.40 Kuvakirjat / <strong>Leena Pöntinen</strong></p>

<p>Klo 10.40–11.10 Lasten genrekirjallisuus ja lasten romaanit / <strong>Tuija Mäki</strong> ja <strong>Elisa Marttinen</strong></p>

<p>Klo 11.10–11.40 Lastenmusiikkia 2020-luvulta / <strong>Juhani Valkama</strong></p>

<p>Klo 11.40–12.40 Lounas (omakustanteinen) ja lautapeli -pop up jatkuu</p>

<p>Klo 12.40–13.10 Nostoja lasten ja nuorten tietokirjoista / <strong>Katri Niskanen</strong> ja <strong>Liisa Hopia</strong></p>

<p>Klo 13.10–13.40 20-vuotiskatsaus nuortenkirjallisuuden muutokseen / <strong>Tuija Mäki</strong></p>

<p>Klo 13.40–14.25 Nuorten genrekirjallisuus ja realistinen kirjallisuus / <strong>Inna Muikku</strong> ja <strong>Marjo Mannila</strong></p>

<p>Klo 14.25–14.40&nbsp;Kahvitauko</p>

<p>Klo 14.40–15.10 Lasten ja nuorten konsolipelit / <strong>Ilari Reuhkala</strong></p>

<p>Klo 15.10–15.30&nbsp;Lasten ja nuorten sarjakuvat / <strong>Johanna Tornikoski</strong></p>

<p>Klo 15.30–15.45&nbsp;&nbsp;Yhteenveto</p>

<p>Klo 16.00–19.00&nbsp;&nbsp;Vapaamuotoiset Kirjakutsut-afterworkit (omakustanteinen) vielä määrittelemättömässä paikassa</p>

<p><em>Toivomme, että osallistujilla olisi mahdollisuus jäädä verkostoitumaan meidän kanssamme yhdessä tapahtuman jälkeen. Erityisesti pandemia-ajan jälkeen olisi kiva tavata teitä kaikkia livenä!</em></p>

<h2>Lisätiedot</h2>

<p>Projektisuunnittelija Mervi Hietanen<br />
040 800 7821 /&nbsp;mervi.hietanen(a)tampere.fi</p>

<p><em>Tilaisuuden järjestää Tampereen kaupunginkirjasto. Tampereen kaupunginkirjastolla on alueellinen kehittämistehtävä Pirkanmaan ja Keski-Suomen alueella. Kuvat ja tunnelmat somessa, käytä tunnistetta #akepike.</em></p>

LOCATION:pääkirjasto / Lehmus-sali
END:VEVENT
END:VCALENDAR