BEGIN:VCALENDAR
VERSION:2.0
PRODID:-//kirjastotfi/procal//NONSGML v1.0//EN
BEGIN:VEVENT
DTSTART:20231018T093000
DTEND:20231018T153000
SUMMARY:Hankintapäivä: Konsortion 10-vuotisjuhlaseminaari
DESCRIPTION:<p>Yleisten kirjastojen konsortion perinteinen Hankintapäivä pidetään Helsingissä, keskustakirjasto Oodin Kuutio-tilassa ke 18.10.2023. Tänä vuonna tulee kuluneeksi 10 vuotta konsortion perustamisesta ja päivän ohjelma keskittyykin konsortion historiaan ja nykypäivään. Tervetuloa paikan päälle kuuntelemaan ja tapaamaan kollegoita! Tilaisuutta voi myös seurata Kirjastokaistalta.<br />
&nbsp;<br />
Paikan päälle tulijoilta toivomme ilmoittautumista pe 13.10. mennessä tarjoilujen vuoksi osoitteeseen marja.hjelt@hel.fi</p>

<h2>OHJELMA</h2>

<p>Aamukahvi 9.30<br />
10:00 Päivän avaus: Virva Nousiainen-Hiiri (kirjastoverkon yhteisten palveluiden päällikkö, Helsingin kaupunginkirjasto)</p>

<p>10:15 Sähköiset sisällöt yleisiin kirjastoihin, Aija Laine (erityissuunnittelija, Kirjastot.fi)</p>

<p>10.35 Yleisten kirjastojen konsortion perustaminen, Inkeri Näätsaari</p>

<p>10.50 Yleisten kirjastojen konsortion perustaminen, Johanna Selkee, (erityisasiantuntija, Kuntaliitto)</p>

<p>11.30 Lounas</p>

<p>12.15 Konsortion hankkeet</p>

<p>12.20 Metadata -hanke, Matti Sarmela (päätoimittaja, Kirjastot.fi)</p>

<p>12.50 E-kirja yleisiin kirjastoihin, yhteistyö kustantajien kanssa, Peter Bagge</p>

<p>13.20 Digimediahanke ja e-kirjastohanke, Suvi Sivulainen (projektipäällikkö, e-kirjastohanke)</p>

<p>13.40 Lasten ja Nuorten valtakunnallinen digikokoelma, Mervi Heikkilä (kehityspäällikkö, Seinäjoen kaupunginkirjasto)</p>

<p>14.00 Kahvitauko</p>

<p>14.20 Konsortion arkipäivä,</p>

<p>14.20 Kilpailutukset:</p>

<ul>
	<li>E- ja äänikirjapuitesopimukset, e-lehdet, Aino Ketonen (aineistopäällikkö, Vantaan kaupunginkirjasto</li>
	<li>Elokuvapalvelut, Arja Tuuliniemi (palvelupäällikkö, FinELib)</li>
</ul>

<p>15.00 Kyselyt ja tutkimukset:</p>

<ul>
	<li>E-aineistot ja kansalaiset, Marja Hjelt (suunnittelija, Yleisten kirjastojen konsortio)</li>
	<li>Tilastot ja lainauskorvaus, Marja Hjelt (suunnittelija, Yleisten kirjastojen konsortio)</li>
</ul>

<p>15.30 Päivän päätös, Virva Nousiainen-Hiiri (palveluiden päällikkö, Helsingin kaupunginkirjasto)</p>

<p>Tilaisuus on seurattavissa <a href="https://www.kirjastokaista.fi/live/">Kirjastokaistan live-kanavalla</a>.</p>

LOCATION:
END:VEVENT
END:VCALENDAR