BEGIN:VCALENDAR
VERSION:2.0
PRODID:-//kirjastotfi/procal//NONSGML v1.0//EN
BEGIN:VEVENT
DTSTART:20231011T130000
DTEND:20231011T150000
SUMMARY:Lanujen kirjakahvit
DESCRIPTION:<p>Lanujen kirjakahvit on Uudenmaan LANU-verkoston organisoima vapaamuotoinen vinkkauspiiri lasten- ja nuortenkirjastotyötä tekeville kirjastolaisille. Tarjolla on matalan kynnyksen vertaistukea vinkkaamiseen. Mitä kirjoja kannattaa suositella eri-ikäisille lukijoille? Mistä kirjoista on huonoja kokemuksia?</p>

<p>Keskiviikkona 11.10. klo 13-15 kahvitellaan taas kirjavinkkien parissa. Tule mukaan vinkkaamaan tai kuuntelemaan, mitä vinkattavaa muilla on! Mukana on esivinkkaajia, mutta toivomme, että myös osallistujat varautuisivat vinkkaamaan kirjoja. Voit myös tulla mukaan vain kuuntelemaan.&nbsp;Kahveilla vinkatuista kirjoista kootaan kirjalista.</p>

<p>Noin klo 13-14 vinkataan kuvakirjoja ja alakouluikäisille sopivia kirjoja ja klo 14-15 nuorten ja nuorten aikuisten kirjoja.</p>

<h2>Osallistumislinkki</h2>

<p>Ennakkoilmoittautumista ei tarvita, ota kuppi kahvia tai teetä ja tule linjoille <a href="https://teams.microsoft.com/l/meetup-join/19%3ameeting_MmFkZTQzMjEtODU2Zi00YjMxLWFiYjMtN2Y3M2I3YzQxYzkx%40thread.v2/0?context=%7b%22Tid%22%3a%22ca8dd34c-ed0b-4236-92cb-5644bfcfaed6%22%2c%22Oid%22%3a%22c914ca2e-6e3f-4481-9fe5-d5b562bcbc61%22%7d">tästä linkistä</a>.</p>

LOCATION:Teams
END:VEVENT
END:VCALENDAR