BEGIN:VCALENDAR
VERSION:2.0
PRODID:-//kirjastotfi/procal//NONSGML v1.0//EN
BEGIN:VEVENT
DTSTART:20230914T123000
DTEND:20230914T143000
SUMMARY:Peliviikon etkot: Vinkkejä kirjaston pelikasvatukseen
DESCRIPTION:<p>Syksyn pelikoulutuksessa 14.9. klo 12.30-14.30 tarjolla hyvä peruspaketti ammattimaisesta pelikasvatuksesta ja asiaa syksyn peliviikosta. Saamme myös tutustua pelikulttuurin kehittämiseen Espoon kaupunginkirjastossa. Koulutuksen järjestävät yhteistyössä AKE Porvoo ja Helmet kirjastojen seudullinen koulutusryhmä.</p>

<p><strong>Koulutuksen aiheita:</strong></p>

<p><strong>Digitaaliset pelit, ikärajat ja ammatillinen pelikasvatus</strong></p>

<p>Tommi Tossavainen Kansallisesta audiovisuaalisesta instituutista kertoo pelikasvatusta tekevien&nbsp;ammattilaisten vastuista ja velvollisuuksista,&nbsp;avaa digitaalisten pelien&nbsp;sääntelyä, pelien ikärajakysymyksiä, sekä tarjoaa vinkkejä ammatilliseen pelikasvatukseen.</p>

<p><strong>Pelikulttuurin kehittäminen Espoon kirjastossa</strong></p>

<p>Espoon kirjastossa on vuoden 2023 aikana panostettu pelikulttuurin kehittämiseen. Kehittäminen on sisältänyt osaamisen systemaattista lisäämistä sekä koko kirjaston tasoisten toimintamallien luomista. Katariina Lauronen ja&nbsp; kehittämisen rakenteita ja keinoja.</p>

<p><strong>Osallistuminen</strong></p>

<p><a href="https://teams.microsoft.com/l/meetup-join/19%3ameeting_ZTFlYTc3MjktNDA4NC00ZGZlLThhNDMtNTQwYzI5NDVmNTNk%40thread.v2/0?context=%7b%22Tid%22%3a%22ca8dd34c-ed0b-4236-92cb-5644bfcfaed6%22%2c%22Oid%22%3a%2251f7aaa5-6f70-4662-8e6d-4a11664115ff%22%7d">Liity koulutukseen tästä linkistä</a></p>

<p><strong>Lisätietoja:</strong></p>

<p>Jan Nyström<br />
<a href="mailto:jan.nystrom@porvoo.fi">jan.nystrom@porvoo.fi</a></p>

LOCATION:Teams
END:VEVENT
END:VCALENDAR