BEGIN:VCALENDAR
VERSION:2.0
PRODID:-//kirjastotfi/procal//NONSGML v1.0//EN
BEGIN:VEVENT
DTSTART:20231012T090000
DTEND:20231012T160000
SUMMARY:Pelit ja pelillinen oppiminen kirjastossa
DESCRIPTION:<p>Lahden ja Vaasan alueellisten kehittämiskirjastojen yhteisessä koko päivän webinaarissa pohditaan pelien ja pelillisen oppimisen mahdollisuuksia kirjastossa. Mukaan ovat tervetulleita kaikki kirjastoammattilaiset ympäri Suomen.</p>

<h2>Koulutuksen kuvaus ja sisältö</h2>

<p>Digitaalisten pelien maailma voi tuntua vieraalta niille, jotka eivät pelaa. Mikä peleissä viehättää? Miksi jotkut uppoutuvat pelaamiseen niin täysin? Entä mitä sellaista pelit voivat tarjota, mitä muu taide tai viihde ei? Päivän avauspuheenvuorossaan tietokirjailija&nbsp;<strong>Aleksandr Manzos&nbsp;</strong>avaa pelaamisen kokemusta sisältä käsin uusimman teoksensa&nbsp;<em>Pelattu elämä: miten pelit tekivät minusta minut&nbsp;</em>(S&amp;S 2023) pohjalta.</p>

<p>Avauspuheenvuoron jälkeen kuulemme, mitä pelikulttuurisen kasvatuksen kehittämiselle kuuluu Espoon kaupunginkirjastossa. Tuoretta mediasivistysstrategiaa esittelee kirjastopalvelupäällikkö&nbsp;<strong>Katariina Lauronen</strong>. Aamupäivällä kuulemme vielä lyhyet esittelyt palapelien monista mahdollisuuksista kirjastossa (kirjastovirkailija&nbsp;<strong>Vesna Haglund</strong>), virtuaalitodellisuuden hyödyntämisestä peruskoulussa (rehtori&nbsp;<strong>Henrik Vähäkangas</strong>) sekä tekoälyn käytöstä roolipelaamisessa (Biblioteksutvecklare&nbsp;<strong>Johan Sundlöf</strong>).</p>

<p>Iltapäivällä kuulemme kahdesta pelaamiseen liittyvästä hankkeesta, kun informaatikko&nbsp;<strong>Erika Kallinen&nbsp;</strong>Hämeenlinnan kaupunginkirjastosta esittelee Senioreiden peliaamut 3.0 ‑konseptia osana Tiloissa! ‑hanketta ja kirjastovirkailija&nbsp;<strong>Sari Toivonen&nbsp;</strong>Lappeenrannan kaupunginkirjastosta puhuu sosiaalisesti saavutettavan pelitilan mahdollisuuksista Siekin osaat pelata! ‑hankkeessa.</p>

<p>Päivän päätteeksi kutsumme kaikki osallistujat yhteiseen keskusteluun monialaisen yhteistyön ja verkostomaisemman pelikasvattajien yhteistoiminnan kehittämisestä Suomen pelimuseon tutkija&nbsp;<strong>Niklas Nylundin&nbsp;</strong>ja Asikkalan kunnankirjaston mediaohjaaja&nbsp;<strong>Heikki Marjomaan&nbsp;</strong>johdolla.</p>

<p>Lämpimästi tervetuloa mukaan!</p>

<h2>Ilmoittautuminen</h2>

<ul>
	<li><a href="https://link.webropol.com/ep/lakepampas2024">Ilmoittaudu mukaan koulutuspäivään viimeistään perjantaina 6.10.2023 tällä Webropol-lomakkeella.</a></li>
</ul>

<h2>Ohjelma ja aikataulu</h2>

<p>Klo 8.30 Verkostoitumisaamukahvit, vapaata keskustelua ja kohtaamisia</p>

<p>Klo 9.00 Tervetuloa koulutuspäivään, Lahden ja Vaasan AKE-kirjastot</p>

<p>Klo 9.10 Miten pelit tekivät minusta minut,<strong>&nbsp;Aleksandr Manzos</strong></p>

<p>Klo 10.00&nbsp;Tauko</p>

<p>Klo 10.15 Pelikulttuurisen kasvatuksen kehittäminen kirjastossa,&nbsp;<strong>Katariina Lauronen</strong>, Espoon kaupunginkirjasto</p>

<p>Klo 11.00 Palapelin monet mahdollisuudet,&nbsp;<strong>Vesna Haglund</strong>, Vaasan kaupunginkirjasto</p>

<p>Klo 11.20 Virtuaalitodellisuuden hyödyntäminen peruskoulussa,&nbsp;<strong>Henrik Vähäkangas</strong>, Vaasan kristillinen koulu</p>

<p>Klo 11.40 Role-playing AI,&nbsp;<strong>Johan Sundlöf</strong>, Biblioteksutvecklare, Regionbibliotek Västerbotten (In English)</p>

<p>Klo 12.00 Lounastauko</p>

<p>Klo 12.45 Aamupäivän koonti ja katseet iltapäivään, Lahden ja Vaasan AKE-kirjastot</p>

<p>Klo 13.00 Senioreiden peliaamut 3.0 osana Tiloissa! ‑hanketta,<strong>&nbsp;Erika Kallinen</strong>, Hämeenlinnan kaupunginkirjasto</p>

<p>Klo 13.30 Siekin osaat pelata! — Pelikulttuuriin tutustumista sosiaalisesti saavutettavassa tilassa ‑hanke,&nbsp;<strong>Sari Toivonen</strong>, Lappeenrannan kaupunginkirjasto</p>

<p>Klo 14.00 Yhteistyötä museon ja kirjastojen välillä,&nbsp;<strong>Niklas Nylund</strong>, Suomen pelimuseo</p>

<p>Klo 14.45&nbsp;Tauko</p>

<p>Klo 15.00 Pelikirjastolaisen verkostot ja verkostoitumisen hyödyt,&nbsp;<strong>Heikki Marjomaa</strong>, Asikkalan kunnankirjasto</p>

<p>Klo 15.30 Päivän koonti yhdessä esiintyjien ja osallistujien kanssa</p>

<p>Klo 16.00 Päivä päättyy</p>

<h2>Kohderyhmä</h2>

<p>Koulutuspäivä on suunnattu erityisesti Etelä-Karjalan, Kanta-Hämeen, Kymenlaakson ja Päijät-Hämeen sekä Etelä-Pohjanmaan, Pohjanmaan ja Keski-Pohjanmaan kirjastohenkilöstölle, mutta koulutuspäivään voi osallistua myös muualta Suomesta.</p>

<h2>Lisätietoa</h2>

<p>Pasi Kangas<br />
mediakasvatuskoordinaattori<br />
Lahden kaupunginkirjasto,<br />
alueellinen kehittämistehtävä<br />
pasi.kangas@lahti.fi<br />
044 482&nbsp;6153</p>

<p>Anneli Haapaharju<br />
palvelusuunnittelija<br />
Vaasan kaupunginkirjasto,<br />
alueellinen kehittämistehtävä<br />
anneli.haapaharju@vaasa.fi<br />
040 149&nbsp;5924</p>

LOCATION:Zoom
END:VEVENT
END:VCALENDAR