BEGIN:VCALENDAR
VERSION:2.0
PRODID:-//kirjastotfi/procal//NONSGML v1.0//EN
BEGIN:VEVENT
DTSTART:20230516T093000
DTEND:20230516T110000
SUMMARY:Shared Reading kommer till Finland - infotillfälle 16.5.2023
DESCRIPTION:<p><strong>Erte</strong>&nbsp;kommer tillsammans med&nbsp;<strong>Finlands svenska biblioteksförening</strong>&nbsp;att ordna utbildning till läsledare i&nbsp;Shared&nbsp;reading. Eftersom antalet deltagare i utbildningen är begränsat ordnar vi två identiska kurser efter varandra. Boka in datumen 11-13.9 eller 14-16.9 för utbildning till certifierad läsledare i&nbsp;Shared&nbsp;Reading! Platsen för utbildningen är ännu inte vald, men vi meddelar genast det klarnar.</p>

<p>Förmiddagen den&nbsp;<strong>16.5 kl 9.30-11.00&nbsp;</strong>ordnar vi ett informationstillfälle digitalt om&nbsp;Shared&nbsp;Reading-utbildningen och öppnar anmälningen.&nbsp;</p>

<p>Programmet för infotillfället:</p>

<p>9.30-9.35 Välkommen (Erte &amp; FSBF)</p>

<p>9.35-10.05 Vad är&nbsp;Shared&nbsp;Reading? (Henrik Wig, läsledare och utbildare i&nbsp;shared&nbsp;reading)</p>

<p>10.05-10.15 Frågor och diskussion</p>

<p>10.15-10.30 Bli certifierad läsledare i&nbsp;Shared&nbsp;Reading! (Mikaela Byskata-Ahlskog),&nbsp;Ansökningar och anmälan: hur gör man? (FSBF)</p>

<p><a href="https://forms.gle/WZk9tq5dYBZqNxB18">Klicka på den här länken för att anmäla dig till infotillfället</a>!&nbsp;Anmäl dig till distanstipset senast 15.5.</p>

LOCATION:
END:VEVENT
END:VCALENDAR