BEGIN:VCALENDAR
VERSION:2.0
PRODID:-//kirjastotfi/procal//NONSGML v1.0//EN
BEGIN:VEVENT
DTSTART:20230427T100000
DTEND:20230427T160000
SUMMARY:Musiikkikirjastoyhdistyksen kevätseminaari 27.4. 2023
DESCRIPTION:<p><strong>Suomen musiikkikirjastoyhdistyksen kevätseminaari järjestetään Helsingin&nbsp;<a href="https://www.helmet.fi/pasilankirjasto">Pasilan kirjaston</a>&nbsp;auditoriossa torstaina 27. huhtikuuta klo 10–16</strong></p>

<p>Aamupäivän ohjelma sisältää esityksiä ja keskustelua musiikkikirjastojen ja musiikkikirjastoyhdistysten toiminnasta meillä ja naapurimaissamme. Iltapäivällä puolestaan vuorossa on ajankohtaista asiaa kotimaamme musiikki- ja kirjastokentältä.</p>

<p>Seminaari on kaikille avoin ja maksuton, mutta pyydämme ilmoittautumaan verkkolomakkeella&nbsp;tarjoilun järjestämistä varten:&nbsp;<a href="https://docs.google.com/forms/d/e/1FAIpQLSdPsTC9RxrPAO2OPI5p_GSeZat8liD2e4H5dB-BeR3_43gofw/viewform">Ilmoittautuminen kevätseminaariin 2023</a>.<br />
<br />
Tervetuloa mukaan!</p>

<p><strong>Ohjelma</strong></p>

<p>10.00–12.00&nbsp;<strong>Music libraries and music librarianship today</strong></p>

<p>Presentations and a panel discussion in light of the Danish Music Library Association being dissolved last year (<a href="https://musiikkikuuluukaikille.musiikkikirjastot.fi/2023/01/31/mita-tapahtui-tanskan-musiikkikirjastoyhdistykselle-intervalli-2-2022/">article in Intervalli 2/2022</a>).</p>

<p><em>Heidi Heinmaa</em>,&nbsp;<a href="https://www.luts.ee/emky/">Estonian Music Library Association</a><br />
<em>Jaska Järvilehto</em>,&nbsp;<a href="http://musiikkikirjastoyhdistys.fi/">Finnish Music Library Association</a><br />
<em>Gunnel Jönsson</em>,&nbsp;<a href="https://www.smbf.nu/">Swedish Music Library Association</a>&nbsp;<br />
<em>Tone Nøtvik Jakobsen</em>,&nbsp;<a href="https://www.musikkbibliotek.no/">Norwegian Music Library Association</a>&nbsp;<br />
<em>Pia Shekhter</em>, President,&nbsp;<a href="https://www.iaml.info/">The International Association of Music Libraries, Archives and Documentation Centres&nbsp;</a></p>

<p>12.00–13.00&nbsp;<strong>Lounas (omakustanteinen)</strong></p>

<p>13.00–13.25&nbsp;<strong>Muska-ryhmä: musiikintiedonhaku.fi-verkkopalvelun esittely</strong><br />
Musiikkioppilaitoskirjastolaisten työryhmä Muskan jäsenet esittelevät työryhmän toteuttamaa musiikin tiedonhaun opetuksessa vapaasti hyödynnettävää avointa verkkoaineistoa.</p>

<p>13.25–13.50&nbsp;<strong>Yrjö Mannersalo – Muusikon muotokuva</strong><br />
Jaakko Lind kertoo panimomestari-muusikko Yrjö Mannersaloa käsittelevästä teoksestaan&nbsp;<a href="https://www.musiikkikirjastot.fi/app/uploads/2023/03/Lind-Mannersalo.pdf">Yrjö Mannersalo – Muusikon muotokuva</a>, joka julkaistiin verkkojulkaisuna maaliskuussa 2023 Musiikkikirjastoyhdistyksen julkaisusarjassa.</p>

<p>13.50–14.15&nbsp;<strong>Musiikkimuseo Fame</strong><br />
Museonjohtaja Olli Ilmolahti kertoo Pasilassa sijaitsevan Musiikkimuseo Famen toiminnasta.&nbsp;</p>

<p>14.15–14.25&nbsp;<strong>Suomen kirjastopalvelu oy:n tervehdys</strong><br />
Kevätseminaarin yhteistyökumppani esittäytyy.</p>

<p>14.25–14.45&nbsp;<strong>Kahvitarjoilu</strong><br />
Kirjastopalvelu tarjoaa virvokkeita seminaarin osallistujille.</p>

<p>14.45–15.30&nbsp;<strong>Säveltäjä- ja muusikkonaisten historiantutkimus: arkistoaineistoja kartoittamassa</strong><br />
Nuppu Koivisto-Kaasikin esityksessä keskitytään erityisesti Susanna Välimäen ja Koivisto-Kaasikin&nbsp;<em>Sävelten tyttäret</em>&nbsp;-hankkeessa karttuneisiin kokemuksiin ja ajatuksiin. Kirja&nbsp;<em>Sävelten tyttäret: säveltävät naiset Suomessa 1800-luvulta 1900-luvulle</em>&nbsp;(SKS 2023) julkaistaan syksyllä.</p>

<p>#kevätsemma23 #IAMLFinland<br />
<strong><strong><a href="https://www.musiikkikirjastot.fi/musiikkipalvelut/suomen-musiikkikirjastoyhdistys/uutiset/">Uutiset</a></strong></strong>&nbsp;•&nbsp;<strong><a href="https://www.facebook.com/musiikkikirjastoyhdistys">Facebook</a></strong>&nbsp;•&nbsp;<strong><a href="https://www.instagram.com/musiikkikirjastoyhdistys/">Instagram</a></strong>&nbsp;•&nbsp;<strong><a href="https://twitter.com/musiikkikstoyhd">Twitter</a></strong></p>

LOCATION:
END:VEVENT
END:VCALENDAR