BEGIN:VCALENDAR
VERSION:2.0
PRODID:-//kirjastotfi/procal//NONSGML v1.0//EN
BEGIN:VEVENT
DTSTART:20230530T093000
DTEND:20230530T140000
SUMMARY:Rohkene innostumaan! Onnistuneen tapahtuman avaimet
DESCRIPTION:<p><strong>Mitä kaikkea liittyy onnistuneen tapahtuman luomiseen kirjastossasi? Tule mukaan innostumaan tapahtumien suunnittelusta ja toteuttamisesta!</strong></p>

<p>Rohkene innostumaan! -päivä antaa PiKe-kirjastolaisille&nbsp;ideoita luoda ja rohkaisua toteuttaa uusia tapahtumia. Päivän aikana käydään läpi tapahtumapersoonien luomista ja yleisön kuuntelemista, tapahtuman onnistuneisuuden arvioimista ja erityisten tähtihetkien luomista. Vetäjä&nbsp;<strong>Helena Wallo</strong>&nbsp;(MBA, ekonomi, pedagogi, tuotekehittäjä, näyttötutkintomestari) kouluttaa, konsultoi, arvioi ja bloggaa tapahtumista. Hänet on valittu tapahtuma-alan sadan vaikutusvaltaisimman ihmisen joukkoon vuonna 2019.</p>

<h2>Aika, paikka ja ilmoittautuminen</h2>

<p><strong>Rohkene innostumaan! Onnistuneen tapahtuman avaimet<br />
Ti 30.5.2023 klo 9.30–14.00<br />
Tampere / Pääkirjasto Metso, Lehmus-sali</strong></p>

<p><a href="https://elomake.tampere.fi/lomakkeet/27843/lomake.html">Ilmoittaudu tilaisuuteen oheisella lomakkeella 16.5.2023 mennessä.</a></p>

<h2>Ohjelma</h2>

<p>Klo 9.30–9.45 Aamukahvit</p>

<p>Klo 9.45–11.15 Onnistuneen tapahtuman avaimet / Helena Wallo (Faustus Oy)</p>

<ul>
	<li>Tunne ja kuuntele yleisöäsi</li>
	<li>Aivoasiat ja sydämen asiat</li>
</ul>

<p>Klo 11.15–12.00 Lounas (omakustanteinen)</p>

<p>Klo 12.00–14.00 Yhteistä työskentelyä aamupäivän teemoista</p>

<ul>
	<li>Kohderyhmät ja tapahtumapersoonat</li>
	<li>Tavoitteet ja onnistumisen mittaaminen</li>
	<li>Sisällöt ja ideat tapahtumiin</li>
	<li>Tähtihetkiä tapahtumiin</li>
</ul>

<p><em>Tilaisuuden&nbsp;&nbsp;järjestää Tampereen kaupunginkirjasto. Tampereen kaupunginkirjastolla on alueellinen kehittämistehtävä Pirkanmaan ja Keski-Suomen alueella. Kuvat ja tunnelmat somessa, käytä tunnistetta: #akepike</em></p>

<h2>Lisätiedot</h2>

<p>Koordinaattori Juliaana Grahn<br />
Puh. 040 800 7828 / S-posti:&nbsp;juliaana.grahn(a)tampere.fi</p>

LOCATION:Tampereen kaupunginkirjasto, pääkirjasto Metso
END:VEVENT
END:VCALENDAR