BEGIN:VCALENDAR
VERSION:2.0
PRODID:-//kirjastotfi/procal//NONSGML v1.0//EN
BEGIN:VEVENT
DTSTART:20230504T093000
DTEND:20230504T150000
SUMMARY:Osallisuus ja päätöksenteon tukeminen kirjastoissa: Tasapuolisista keskusteluista päätökseen
DESCRIPTION:<p><strong>Kuuluuko työhösi yleisötilaisuuksien, sisäisten kokousten tai työpajojen vetämistä? Kuinka voit tiiminvetäjänä, esihenkilönä, kollegana tai kirjastoammattilaisena tukea osallisuuden kokemusta kirjastossasi?</strong></p>

<p>Päivän aikana syvennytään siihen, miten kaikki tulevat kuulluiksi ja miten keskustelua ohjataan kohti päätöksentekoa. PiKe-kirjastolaisille suunnattu tilaisuus sisältää käytännön harjoituksia ja menetelmiä ajanhallintaan, kuinka saada kaikki mukaan sekä vietyä keskusteluja päätöksiin. Vetäjä&nbsp;<strong>Lari Karreinen</strong>&nbsp;(Osana Yhteistä Ratkaisua Oy) on vertaisarvioitu ratkaisukeskeinen valmentaja ja fasilitaattori. Hän on kouluttanut esimerkiksi Espoon, Tampereen ja Lahden kirjastolaisia Parasta palvelua omatoimisesti -hankkeessa.</p>

<h2>Aika, paikka ja ilmoittautuminen</h2>

<p><strong>Osallisuus ja päätöksenteon tukeminen kirjastoissa: Tasapuolisista keskusteluista päätökseen<br />
To 4.5.2023 klo 9.30–15.00<br />
Pääkirjasto Metso, Lehmus-sali</strong></p>

<p><a href="https://elomake.tampere.fi/lomakkeet/27824/lomake.html">Ilmoittaudu tilaisuuteen oheisesta linkistä 27.4.2023 mennessä.</a></p>

<h2>Ohjelma</h2>

<p>Klo 9.30–10.00 Aamukahvit</p>

<p>Klo 10.00–12.00 Osallisuuden tukeminen /&nbsp;<strong>Lari Karreinen</strong>&nbsp;(Osana Oy)</p>

<ul>
	<li>Osallistumista tukeva aloitus ja virittäytyminen kokouksissa ja yleisötilaisuuksissa</li>
	<li>Osallisuuden tavoitteellinen suunnittelu</li>
	<li>Harjoitus 1: kaikkien aktivointi, ajanhallinta ja tasapuolinen osallistuminen</li>
	<li>Palaute ja reflektio</li>
</ul>

<p>Klo 12.00–13.00 Lounas (omakustanteinen)</p>

<p>Klo 13.00–15.00 Keskusteluista päätöksiin /&nbsp;<strong>Lari Karreinen</strong>&nbsp;(Osana Oy)</p>

<ul>
	<li>Päätöksenteon fasilitointi: tyypilliset sudenkuopat ja ratkaisut</li>
	<li>Harjoitus 2: päätöksenteon fasilitointi</li>
	<li>Palaute ja reflektio</li>
	<li>Yhteenveto</li>
</ul>

<p><em>Tilaisuuden&nbsp;järjestää Tampereen kaupunginkirjasto. Tampereen kaupunginkirjastolla on alueellinen kehittämistehtävä Pirkanmaan ja Keski-Suomen alueella. Kuvat ja tunnelmat somessa, käytä tunnistetta: #akepike</em></p>

<h2>Lisätiedot</h2>

<p>Koordinaattori Juliaana Grahn<br />
Puh. 040 800 7828 / S-posti:&nbsp;juliaana.grahn(a)tampere.fi</p>

LOCATION:Tampereen kaupunginkirjasto, pääkirjasto Metso
END:VEVENT
END:VCALENDAR