BEGIN:VCALENDAR
VERSION:2.0
PRODID:-//kirjastotfi/procal//NONSGML v1.0//EN
BEGIN:VEVENT
DTSTART:20230331T090000
DTEND:20230331T113000
SUMMARY:Ohjaamisen aakkosia: Ryhmänohjaajan työkaluja I
DESCRIPTION:<p>Otatko vastaan koululuokkia tai päiväkotiryhmiä? Esitteletkö kirjastoa vieraille? Pidätkö vinkkaustuokioita? AKE Porvoon webinaarista saat työkaluja kirjaston erilaisten ryhmänohjaustuokioiden suunnitteluun.</p>

<p>Webinaari on kaksiosainen, koulutukset ovat pe 31.3. ja ti 18.4. klo 9-11.30.</p>

<p>Koulutus keskittyy ryhmille suunnattuihin tilaisuuksiin, joissa on useampi osallistuja ja ennalta määritelty kesto. Koulutuksen vetää asiantunteva ja pidetty kouluttaja Kai Halttunen.</p>

<h2>Koulutuksen sisältö</h2>

<ul>
	<li>Konkreettisia esimerkkejä ja tehtäviä ohjaus- ja esittelytilanteiden suunnittelusta, toteutuksesta ja arvioinnista</li>
	<li>Kuinka tutustun oppijaan ennakolta ja miten motivoin häntä?</li>
	<li>Ohjaustilanteen rakentaminen, havainnollistaminen, vuorovaikutus</li>
	<li>Orientaatioperustat oppimisessa</li>
	<li>Miten meni? Palaute ja arviointi sekä palautuminen. Ohjaajana jaksaminen.</li>
</ul>

<h2>Kohderyhmä ja ilmoittautuminen</h2>

<p>Koulutuksesta on hyötyä kirjastolaisille, jotka ohjaavat, esittelevät ja kouluttavat asioita ryhmille tai jotka tulevaisuudessa mahdollisesti ohjaavat ryhmiä. Koulutus on suunnattu ainoastaan Uudenmaan yleisten kirjastojen henkilökunnalle. 25 osallistujaa.</p>

<p>Ilmoittaudu mukaan 24.3.2023 mennessä <a href="https://link.webropolsurveys.com/EP/DA5D3AE35B905AEF">tästä linkistä</a>. Ilmoittautuessasi sitoudut osallistumaan koulutuksen molempiin päiviin. Saat Teams-linkin ilmoittautumisajan päätyttyä.</p>

<h2>Tuleeko tallenne?</h2>

<p>Koulutuksesta ei tule tallennetta.</p>

LOCATION:Teams
END:VEVENT
END:VCALENDAR