BEGIN:VCALENDAR
VERSION:2.0
PRODID:-//kirjastotfi/procal//NONSGML v1.0//EN
BEGIN:VEVENT
DTSTART:20230418T083000
DTEND:20230418T160000
SUMMARY:Lukutaidon kuntafoorumi 2023
DESCRIPTION:<p>Miten lukutaidon ja oppimistulosten heikkeneminen tulisi ottaa huomioon kunnissa? Lukutaidon kuntafoorumi 2023 kutsuu koolle eri näkökulmia edustavia lukutaidon asiantuntijoita. Tilaisuuden puheenvuoroissa jaetaan tietoa ja vinkkejä lukutaitotyöhön niin isoissa kuin pienemmissä kunnissa.</p>

<p>Seurattavissa Kirjastokaistalla, <a href="https://lukuliike.fi/kuntafoorumi/">tarkat tiedot täällä</a>.&nbsp;</p>

LOCATION:
END:VEVENT
END:VCALENDAR