BEGIN:VCALENDAR
VERSION:2.0
PRODID:-//kirjastotfi/procal//NONSGML v1.0//EN
BEGIN:VEVENT
DTSTART:20230511T090000
DTEND:20230512T160000
SUMMARY:Lahden AKE: Verkostoitumis- ja inspiraatiopäivät 2023
DESCRIPTION:<p>Lahden AKE kutsuu koko kehittämisalueen kirjastohenkilökunnan verkostoitumis- ja inspiraatiopäiville Lappeenrantaan! Tällä kertaa Etelä-Karjalan, Kanta-Hämeen, Kymenlaakson ja Päijät-Hämeen kirjastolaiset yhteen kokoavaa kaksipäiväistä tapahtumaa vietetään Sokos Hotel Lappeen tiloissa 11.–12.5.2023.</p>

<p>Koulutuspäivien kattoteemana on “Riittävän hyvä kirjasto”. Sisällöissä korostuvat kohtaaminen, ohjaaminen ja oppiminen. Luvassa on kiinnostavia luentoja, työpajatyöskentelyä sekä aikaa tutustumiselle ja kohtaamisille.</p>

<p>Lappeenrannan kaupunginkirjasto toimii väistötiloissa Kauppakeskus IsoKristiinassa, jossa myös tapahtumapaikkamme sijaitsee, joten samalla reissulla on hieno tilaisuus tutustua kirjaston uusiin tiloihin.</p>

<p>Kehittämiskirjasto tarjoaa päivien monipuolisen ohjelman, tarkoituksenmukaiset tilat ja maittavat kahvitarjoilut.</p>

<p>Koulutuspäiville mahtuu mukaan 40 osallistujaa.</p>

<h2>Ohjelma ja aikataulu</h2>

<p>Aloitamme molemmat koulutuspäivät aamukahveilla Sokos Hotel Lappeen aulan kahvitorilla. Tarjolla kahvia, teetä ja pientä purtavaa.</p>

<h3>Torstai 11.5. klo 9–16</h3>

<p>Klo 9.00–10.00 Aamukahvit (kehittämiskirjasto tarjoaa)</p>

<p>Klo 10.00–10.15 Tervetuloa Lappeenrantaan!&nbsp;Lappeenrannan kaupunginkirjasto</p>

<p>Klo 10.15–11.15 Empatiaa ja ripaus röyhkeyttä,&nbsp;<strong>Jenni Janakka</strong>, Asennemuija Oy</p>

<p>Klo 11.15–11.30 Jaloittelutauko</p>

<p>Klo 11.30–12.30 Kehittämiskuulumisia alueen kirjastoista</p>

<ul>
	<li>Klo 11.30–12.00 ”Tuppa lukemaa” — Lukuiloa ja yhteisöllisyyttä ikääntyneille koteihin, Kouvolan kaupunginkirjasto</li>
	<li>Klo 12.00–12.30 Turvallisemman tilan periaatteet Lahden kaupunginkirjastossa, palvelupäällikkö&nbsp;<strong>Pirita Rautavuo</strong>, Lahden kaupunginkirjasto</li>
</ul>

<p>Klo 12.30–13.30 Lounas (omakustanteinen)</p>

<p>Klo 13.30–16.00 Vaihtoehtoiset työpajat (sis. kahvitauon)</p>

<ul>
	<li>Klo 13.30–16.00 Riittävän hyvä kirjasto — ohjattu dialogi riittämättömyyden tunteesta ja riittävän hyvän tekemisestä,&nbsp;<strong>Aleksi Lumme</strong></li>
	<li>Klo 13.30–16.00 Kohti turvallisempaa tilaa ‑työpaja,&nbsp;<strong>Laura Hagström</strong>, Ekvalita</li>
</ul>

<p>Klo 16.00 Päivä päättyy</p>

<p>Klo 16.15 Opastettu kirjastokierros Lappeenrannan pääkirjaston väistötiloissa Kirjastiinassa</p>

<h4>Iltaohjelma</h4>

<p>Klo 18.00 Vapaamuotoinen, omakustanteinen illallinen Lappeenrannassa.</p>

<h3>Perjantai 12.5. klo 9–16</h3>

<p>Klo 9.00–9.45 Aamukahvit (kehittämiskirjasto tarjoaa)</p>

<p>Klo 9.50–10.00 Koordinaattoreiden aamunavaus,&nbsp;<strong>Pasi Kangas</strong>,&nbsp;<strong>Noora Oluikpe</strong>&nbsp;ja&nbsp;<strong>Hanna Pitkänen</strong>, Lahden AKE</p>

<p>Klo 10.00–10.50 Virtaa vinkkauksiin — Kirjastoammattilaisena somessa,&nbsp;<strong>Henriika Tulivirta</strong>, Kirjasampo.fi/Sivupiiri</p>

<p>Klo 10.50–11.00 Jaloittelutauko</p>

<p>Klo 11.00–11.30 Kehittämiskuulumisia alueen kirjastoista</p>

<ul>
	<li>Klo 11.00–11.30 Minun kuntani — kirjasto yhteisten asioiden keskustelufoorumina ja medialukutaidon tukijana ‑demokratiahankkeen keskustelut Lauritsalan, Joutsenon ja Sammonlahden kirjastoissa,&nbsp;<strong>Miia Ahokainen</strong>, Lappeenrannan kaupunginkirjasto&nbsp;ja&nbsp;<strong>Kaisa Halme</strong>, Lahden kaupunginkirjasto</li>
</ul>

<p>Klo 11.30–12.30 Lounas (omakustanteinen)</p>

<p>Klo 12.30–16.00 Vaihtoehtoiset työpajat (sis. kahvitauon)</p>

<ul>
	<li>Klo 12.30–16.00 Nuorten kohtaaminen kirjastotyössä,&nbsp;<strong>Nuorten Palvelu ry</strong></li>
	<li>Klo 12.30–16.00 Meemikoulu kirjastolaisille,&nbsp;<strong>Meemikoulun rehtorit</strong></li>
</ul>

<p>Klo 16.00 Päivä päättyy</p>

<p>Klo 16.15 Opastettu kirjastokierros Lappeenrannan pääkirjaston väistötiloissa Kirjastiinassa</p>

<h2>Kohderyhmä ja ilmoittautuminen</h2>

<p>Koulutuspäivät on tarkoitettu Etelä-Karjalan, Kanta-Hämeen, Kymenlaakson ja Päijät-Hämeen yleisissä kirjastoissa työskenteleville henkilöille. Kaikki työntekijät ovat tervetulleita. Erityisesti toivoisimme, että alueen kirjastot lähettäisivät mukaan myös muita työntekijöitä kuin kirjastonjohtajia, sillä esihenkilöille järjestetään omia koulutuspäiviä.</p>

<ul>
	<li><a href="https://link.webropolsurveys.com/EP/6C4134707785D5A9">Ilmoittaudu Webropol-lomakkeella viimeistään 26.4.2023.</a></li>
</ul>

<h2>Lisätietoa</h2>

<p>Kirjastopalvelukoordinaattori Hanna Pitkänen<br />
044 482 6071 /&nbsp;<a href="mailto:hanna.pitkanen2@lahti.fi">hanna.pitkanen2@lahti.fi</a></p>

<p>Mediakasvatuskoordinaattori Pasi Kangas<br />
044 482 6153 /&nbsp;<a href="mailto:pasi.kangas@lahti.fi">pasi.kangas@lahti.fi</a></p>

<p>Sisältökoordinaattori Noora Oluikpe<br />
044&nbsp;482 6154 /&nbsp;<a href="mailto:noora.oluikpe@lahti.fi">noora.oluikpe@lahti.fi</a></p>

LOCATION:Original Sokos Hotel Lappee
END:VEVENT
END:VCALENDAR