BEGIN:VCALENDAR
VERSION:2.0
PRODID:-//kirjastotfi/procal//NONSGML v1.0//EN
BEGIN:VEVENT
DTSTART:20230224T130000
DTEND:20230224T140000
SUMMARY:ASPA-ajokortti A1: Yhdenvertainen kirjasto 
DESCRIPTION:<p>Turvallisemmat tilat ovat työkalu, jolla voidaan lisätä sekä osallisuutta että madaltaa osallistumisen kynnystä niin tapahtumiin kuin vaikka kirjaston käyttöön. Mutta mitä ovat turvallisemman tilan periaatteet, miten ne lisäävät osallisuutta, miksi niitä kannattaa tehdä ja kuinka ja kenen kanssa? Tässä webinaarissa käydään läpi, mitä tarkoitetaan turvallisemmilla tiloilla ja kuinka päästä alkuun turvallisemman tilan periaatteiden tekemisessä.</p>

<h2>Turvallisemmat tilat – mistä on kyse?</h2>

<p>Tule mukaan linjoille seuraamaan järjestösuunnittelija <strong>Riikka Rajalan</strong> (Suomen kirjastoseura) Teams-alustusta turvallisemman tilan kirjastoista perjantaina 24.2. klo 13–14.&nbsp; Tilaisuudesta tehdään tallenne Liboppi-alustalle<a href="https://akepike.fi/koulutukset/aspa-ajokortti/"> ASPA- ajokortin A1-osioon.</a></p>

<h2>Aika, paikka ja ilmoittautuminen</h2>

<p>Pe 24.2. klo 13–14, Teams</p>

<p><a href="https://elomake.tampere.fi/lomakkeet/27500/lomake.html">Ilmoittaudu tilaisuuteen 23.2. mennessä tällä lomakkeella.</a></p>

LOCATION:Teams
END:VEVENT
END:VCALENDAR