BEGIN:VCALENDAR
VERSION:2.0
PRODID:-//kirjastotfi/procal//NONSGML v1.0//EN
BEGIN:VEVENT
DTSTART:20230323T100000
DTEND:20230323T160000
SUMMARY:Erätauko-dialogien ohjaajan jatkokoulutus (Lahti 23.3.2023)
DESCRIPTION:<p>Tervetuloa mukaan Erätauko-dialogien ohjaajan jatkokoulutukseen. Jatkokoulutuksessa osallistujat pääsevät syventämään menetelmäosaamistaan ja ohjaustaitojaan kasvotusten lähidialogeissa sekä&nbsp;etänä.</p>

<ul>
	<li><a href="https://link.webropol.com/ep/erataukojatkokoulutusteams">Ilmoittaudu mukaan koulutukseen viimeistään keskiviikkona 15.3.2023 täällä. Linkki vie Webropol-lomakkeelle.</a></li>
</ul>

<p>Koulutus järjestetään Teams-kokouksena.</p>

<h2>Koulutuksen sisältö</h2>

<ul>
	<li>Etukäteistehtävä verkkoalustalla (pohdinta, oman osaamisen arviointi ja lukupaketti)</li>
	<li>Koulutusmateriaali verkkomateriaalina</li>
	<li>Suunnittelua ja dialogeja varten havainnolliset työkalut helpottamaan erätaukojen ohjaamista</li>
	<li>Valmentajan tuen koulutuksen aikana sekä koulutuksen jälkeen mahdollisuus saada valmentajan tuen oman erätauon suunnitteluun maksutta (1h sparraus etänä)</li>
</ul>

<h2>Ohjelma ja aikataulu</h2>

<p>Klo 10.00 Koulutus alkaa</p>

<p>Klo 12.00 Lounastauko</p>

<p>Klo 13.00 Koulutus jatkuu</p>

<p>Klo 14.30 Kahvitauko</p>

<p>Klo 15.00 Koulutus jatkuu</p>

<p>Klo 16.00 Koulutus päättyy</p>

<h2>Mikä Erätauko?</h2>

<p>Erätauko-menetelmä on SitraFundin (Suomen itsenäisyyden juhlarahasto) kehittämä dialogimenetelmä, jossa tarkoituksena on osallistaa kansalaisia, ihmisiä ja toimijoita yhteen keskustelemaan kullekin tärkeistä asioista avoimesti, luottamuksellisesti ja rakentavasti. Erätauko-ohjaaja/fasilitaattori toimii ryhmän ja keskustelun ohjaajana.</p>

<h2>Kouluttaja</h2>

<p>Valmentajana toimii organisaatiovalmentaja ja sertifioitu business coach, tietojohtamisen asiantuntija&nbsp;<strong>Tarja Eloranta</strong>. Tarja on fasilitoinut erilaisia työpajoja, dialogeja ja muutosjohtamisen sekä esimiesten valmennuksia useita vuosia eri toimialoilla. Tarjan erityisosaamisena on dialogin edistäminen työyhteisössä ja yhteiskunnassa, johtoryhmätyöskentelyn tukeminen, muutosjohtamisen tuki sekä valmentavan esimiestyön valmentaminen.</p>

<h2>Kohderyhmä</h2>

<p>Koulutus on suunnattu Etelä-Karjalassa, Kanta-Hämeessä, Kymenlaaksossa ja Päijät-Hämeessä työskenteleville kirjastoammattilaisille.</p>

<h2>Lisätietoa</h2>

<p>Mediakasvatuskoordinaattori Pasi Kangas<br />
pasi.kangas@lahti.fi, 044 482&nbsp;6153</p>

LOCATION:Teams
END:VEVENT
END:VCALENDAR