BEGIN:VCALENDAR
VERSION:2.0
PRODID:-//kirjastotfi/procal//NONSGML v1.0//EN
BEGIN:VEVENT
DTSTART:20230516T130000
DTEND:20230516T160000
SUMMARY:Jatkuvan oppimisen ideariihet #3
DESCRIPTION:<p>Kevään 2023 teemana on jatkuva oppiminen. Tässä kokonaisuudessa keskitytään jatkuvan oppimisen mahdollisuuksiin ja haasteisiin työelämän muutoksen näkökulmasta. Mitä on työssä oppiminen ja miten se on vuosikymmenten aikana muuttunut? Miten työn muutokseen on suhtauduttu ja onko muutos aina tuonut mukanaan väsymistä? Tuntuuko että tahti kiihtyy?</p>

<p>Teemaan meidät saattelee jatkuvan oppimisen ideariihet.</p>

<p>Järjestämme <strong>kolme saman sisältöistä työpajaa</strong>. Työpajan ennakkoaineistoina toimivat kaksi reilun tunnin mittaista luentotallennetta. Luennoilla tutkijatohtori Mona Mannevuo (Turun yliopiston tutkijakollegium) kertoo jatkuvasta oppimisesta, työn uuvuttavuudesta ja työn muutoksesta. Tutkijatohtori Soila Lemmetty (Itä-Suomen yliopisto) kertoo jatkuvan oppimisen vastuista ja oppimisen johtamisesta.</p>

<p>Kun olet ilmoittautunut, saat&nbsp;ohjeet ennakkotehtävän tekemiseen hyvissä ajoin ennen tapahtumaa. Tehtävänä on etukäteen katsoa linkin takana olevat Mannevuon ja Lemmetyn luentotallenteet ja tehdä pieni reflektiotehtävä. Ota huomioon, että aineistojen katsomiseen menee reilu kaksi tuntia aikaa</p>

<p>Työpajan fasilitoijana toimii verkostotyön ja yhteiskehittämisen asiantuntija KTT Timo Järvensivu. Hän on kouluttanut, kehittänyt ja fasilitoinut yhteistyöskentelyä noin 20 vuoden ajan erityisesti julkisten alan ja järjestösektorin verkostojen parissa. Järvensivu on ollut tukemassa lukuisten eri verkostojen työtä niin valtakunnallisesta, alueellisesti kuin paikallisestikin. Hän on kirjoittanut tutkimus- ja kokemustaustaansa pohjautuen kirjan "Verkostojen johtaminen - Opi ja etene yhdessä" (Books on Demand, 2019, lisätietoja: www.verkostojenjohtaminen.fi).</p>

<p>Kohderyhmä: kirjastoalan ammattilaiset</p>

<p>Koulutus on maksuton. Työpajoja ei tallenneta.</p>

<p><strong>Tervetuloa!</strong></p>

<p><strong>Lisätiedot:&nbsp;</strong></p>

<p>Anu Ojaranta, p.&nbsp;+358 295 018 302</p>

<p>Miikka Metsola, p. +358 295 016 046</p>

<p>sähköposti: etunimi.sukunimi@avi.fi</p>

<p>&nbsp;</p>

LOCATION:Teams
END:VEVENT
END:VCALENDAR