BEGIN:VCALENDAR
VERSION:2.0
PRODID:-//kirjastotfi/procal//NONSGML v1.0//EN
BEGIN:VEVENT
DTSTART:20230223T130000
DTEND:20230223T150000
SUMMARY:Ajankohtaista tekijänoikeuksista
DESCRIPTION:<h2>Etäkahveilla käsitellään satutuokiota sekä kirjallisuuden ja kuvituksen käyttöä kirjastojen digitaalisissa kanavissa</h2>

<p>Tekijänoikeudet ovat aina pohdituttava teema kirjastoissa, ja haluammekin tarjota foorumin kysyä ajankohtaisista aiheista. Joulukuussa kirjastot saivat Kuntaliiton yleiskirjeen, joissa kerrottiin Kuntaliiton ja tekijänoikeusjärjestöjen Kopioston ja Sanaston laatimasta suositussopimuksesta kirjallisuuden ja kuvituksen käytöstä kirjastojen digitaalisissa kanavissa.&nbsp;<a href="https://www.kuntaliitto.fi/yleiskirjeet/2022/uusi-pilottisopimus-kirjallisuuden-ja-kuvituksen-kaytosta-kirjastojen">Kuntaliiton yleiskirjeen</a>&nbsp;pääset lukemaan täältä.&nbsp;Webinaarissa kuulemme myös Mervi Heikkilän pitämän puheenvuoron satutuokiot läsnä olevalle yleisölle.</p>

<p>Molempien esitysten yhteyteen on varattu aikaa kysymyksille ja keskustelulle. Kysymyksiä voi esittää myös ennakkoon, ilmoittautumislomakkeen kautta.</p>

<h2>Etäkahvien ohjelma</h2>

<p>Etäkahvit järjestetään Teams-kokouksena.</p>

<ul>
	<li>Klo 13 — 13.05 Tervetuloa etäkahveille!</li>
	<li>Klo 13.05 — 13.55 Satutuokiot läsnä olevalle yleisölle / kehityspäällikkö&nbsp;<strong>Mervi Heikkilä</strong>, Seinäjoen ERTE (lasten ja nuorten lukemisen edistämisen erityistehtävä)</li>
	<li>klo 13.55 — 14.00 pieni&nbsp;tauko</li>
	<li>klo 14.00 — 15.00 Sopimus kirjallisuuden ja kuvituksen käytöstä kirjastojen digitaalisissa kanavissa / erityisasiantuntija<strong>&nbsp;Johanna Selkee</strong>, Suomen Kuntaliitto ry</li>
</ul>

<h2>Tuleeko tallenne?</h2>

<p>Etäkahveja ei tallenneta.</p>

<h2>Kohderyhmä ja ilmoittautuminen</h2>

<p>Etäkahveille ovat tervetulleita kaikki aiheesta kiinnostuneet kirjastotyöntekijät.&nbsp;<a href="https://link.webropolsurveys.com/EP/DEEDE8EC4EDFFC75">Ilmoittaudu Webropol-lomakkeella viimeistään 21.2.</a></p>

<p>Etäkahvit järjestävät Lahden ja Vaasan alueellista kehittämistehtävää hoitavat kirjastot. Etäkahveille voi ilmoittautua myös muualta Suomesta.</p>

LOCATION:Teams
END:VEVENT
END:VCALENDAR