BEGIN:VCALENDAR
VERSION:2.0
PRODID:-//kirjastotfi/procal//NONSGML v1.0//EN
BEGIN:VEVENT
DTSTART:20230222T090000
DTEND:20230222T110000
SUMMARY:Turvallisempi tila - esimerkkejä kirjastoista 
DESCRIPTION:<p>Monissa kirjastoissa on viime aikoina työstetty turvallisemman tilan periaatteita, ja Lahden AKEn järjestämillä etäkahveilla, 22.2.2023, kuullaankin muutama tuore esittely siitä, millainen turvallisemman tilan periaatteiden luomisprosessi on ollut, miten esimerkiksi asiakkaita on kuultu ja miltä periaatteet näyttävät, jos ne on ehditty julkistaa ennen etäkahveja.</p>

<p>Etäkahvit järjestetään Teams-kokouksena. Tilaisuuteen varataan myös hetki aikaa kysymyksille ja keskustelulle jokaisen esittelyn jälkeen.</p>

<h2>Etäkahvien ohjelma 22.2.2023</h2>

<ul>
	<li>Klo 9–9.10 Tilaisuuden avaus,&nbsp;<strong>Hanna Pitkänen</strong></li>
	<li>Klo 9.10–9.45 Esimerkki Lahden kaupunginkirjastosta, palvelupäällikkö&nbsp;<strong>Pirita Rautavuo</strong>
	<ul>
		<li>Kysymykset ja keskustelu</li>
	</ul>
	</li>
	<li>Klo 9.45–10.20&nbsp;<a href="https://www.ouka.fi/oulu/kirjasto/turvallisemman-tilan-periaatteet">Turvallisemman tilan periaatteet Oulun kaupunginkirjastossa</a>, informaatikko&nbsp;<strong>Raisa Laitala</strong>
	<ul>
		<li>Kysymykset ja keskustelu</li>
	</ul>
	</li>
	<li>Klo 10.20–10.55 Turvallisemman tilan periaatteet Louna-kirjastojen demokratiahankkeen läikkymisvaikutuksena, kirjastotoimenjohtaja&nbsp;<strong>Maarit Järveläinen</strong>, Forssan kaupunginkirjasto&nbsp;
	<ul>
		<li>Kysymykset ja keskustelu</li>
	</ul>
	</li>
	<li>Tilaisuuden päätös</li>
</ul>

<h2>Kohderyhmä ja ilmoittautuminen</h2>

<p>Etäkahveille ovat tervetulleita kaikki aiheesta kiinnostuneet kirjastolaiset.</p>

<p><a href="https://link.webropolsurveys.com/EP/BFDDF0CDDAC488DB">Voit tilata kokouskutsun tällä lomakkeella 20.2.2023 mennessä.</a></p>

<h2>Tuleeko tallenne?</h2>

<p>Etäkahveja ei tallenneta.</p>

LOCATION:Teams
END:VEVENT
END:VCALENDAR