BEGIN:VCALENDAR
VERSION:2.0
PRODID:-//kirjastotfi/procal//NONSGML v1.0//EN
BEGIN:VEVENT
DTSTART:20230307T130000
DTEND:20230307T140000
SUMMARY:AVIn kirjastotoimen maaliskuun hankekahvit
DESCRIPTION:<p>Hankekahvien ideana on nostaa esille AVIn kirjastotoimien rahoittamia hankkeita, levittää hyviä käytänteitä ja lisätä hankkeiden vaikuttavuutta. Kevään 2023 hankekahvien teemana on yhteiskunnalliset ilmiöt, ja tätä kautta kevään 2023 jatkuvan oppimisen teemaan. Hankekahveilla esitellään joka kerta kaksi aiheeseen liittyvää hanketta.&nbsp;Maaliskuussa teemaa lähestytään Siikajoen, Pyhäjoen ja Raahen yhteishankkeen sekä Kolarin hankkeen kautta. &nbsp;</p>

<p>Siikajoelta tullaan esittelemään kolmen kunnan yhteistä hanketta, jossa tavoitteena on maahanmuuttajille suunnattujen&nbsp;kirjastopalvelujen lisääminen, kehittäminen ja juurruttaminen. Kaikki kotona –hanketta esittelee englanniksi Laima Salkauskiene.&nbsp;</p>

<p>Kolarin kirjasto on kunnostautunut tiedeviestinnässä. Hankeen tavoitteena on ollut tuoda tiedettä esille yleistajuisesti sekä vuorovaikutuksessa tutkijoiden kanssa. Hanketta esittelee kirjasto- ja kulttuuritoimenjohtaja Kyösti Satokangas.&nbsp;&nbsp;</p>

<p>Hankekahvit on tarkoitettu kaikille kirjastojen kehittämisestä kiinnostuneille. Kahvit järjestetään Teamsilla.&nbsp;</p>

<h3>Lisätietoja:</h3>

<p>Anu Ojaranta&nbsp;<br />
kirjastotoimen ylitarkastaja&nbsp;<br />
anu.ojarant(at)avi.fi&nbsp;<br />
0295018302&nbsp;</p>

LOCATION:Teams
END:VEVENT
END:VCALENDAR