BEGIN:VCALENDAR
VERSION:2.0
PRODID:-//kirjastotfi/procal//NONSGML v1.0//EN
BEGIN:VEVENT
DTSTART:20230210T083000
DTEND:20230210T091500
SUMMARY:Kirjastoseuran hallituksen aamukahvit!
DESCRIPTION:<p>Tervetuloa Kirjastoseuran&nbsp;etäaamukahveille! Vuoden 2023 ensimmäiset hallituksen aamukahvit järjestetään Teamsissa perjantaina 10.2. klo 8.30-9.15. Puheenjohtaja<strong>&nbsp;Laura Rissanen</strong>&nbsp;sekä viestintäpäällikkö&nbsp;<strong>Ville Vaarne</strong>&nbsp;esittelevät Kirjastoseuran tulevaa eduskuntavaalikampanjaa ja vastaavat osallistujien kysymyksiin. Aamukahveille ilmoittaudutaan etukäteen seuran nettisivujen kautta. Helmikuun aamukahveille ilmoittautuminen on nyt auki, linkki alla!</p>

<p>&nbsp;</p>

LOCATION:Teams
END:VEVENT
END:VCALENDAR