BEGIN:VCALENDAR
VERSION:2.0
PRODID:-//kirjastotfi/procal//NONSGML v1.0//EN
BEGIN:VEVENT
DTSTART:20230328T090000
DTEND:20230328T110000
SUMMARY:Nepsy: Näin huomioit neuropsykiatriset pulmat kirjastossa
DESCRIPTION:<p>Kirjastossa kohtaamme päivittäin monenlaisia asiakkaita. Osalla kohtaamistamme asiakkaista saattaa olla neuropsykiatrisia pulmia, jotka vaikuttavat käyttäytymiseen, kirjaston tiloissa oleskelemiseen tai osallistumiseen ryhmäkäynneille.</p>

<p>Sana nepsy viittaa neuropsykiatrisiin haasteisiin, ja käsitteen alle kuuluvat niin ADHD, autismin kirjo kuin erityisherkkyyden erilaiset muodot. Nepsy-pulmat voivat ilmetä mm. tarkkaavaisuuden ja keskittymisen haasteina, sosiaalisten tilanteiden kuormittavuutena, aistisäätelyn pulmina tai toiminnanohjauksen vaikeuksina.</p>

<ul>
	<li>Millaisia nepsy-pulmat ovat? Miten ne kannattaa huomioida kirjastossa?</li>
	<li>Millainen on aistiystävällinen tila?</li>
	<li>Mitä nepsy-lainaamon valikoimaan kuuluu?</li>
</ul>

<p>AKE Porvoon järjestämässä webinaarissa kuulemme tarkemmin erilaisista neuropsykiatrisista pulmista.</p>

<h2>Ohjelma</h2>

<p>9-9.45 Erilaiset asiakkaat kirjastossa – asiaa nepsy-pulmista. Hanna Hannukainen<br />
KM, lehtori, työnohjaaja, neuropsykiatrinen valmentaja, Satakunnan ammattikorkeakoulu, Diginepsy-hanke<br />
9.45-10.30 Nepsy-Nurkka: Aistiystävällisen tilan luominen kirjastoon, Paula Hellberg, aistiesteettömän sisustuksen suunnittelija<br />
10.30-11 Nepsy-lainaamo Nokian kirjastossa, Teija Ruuhikorpi, kirjastovirkailija, Nokian kirjasto</p>

<p>Satakunnan ammattikorkeakoulun lehtori ja neuropsykiatrinen valmentaja Hanna Hannukainen avaa puheenvuorossaan neuropsykiatrisia pulmia ja niiden ilmenemistä esimerkkien kautta. Hän kertoo myös SAMK:n DigiNepsy-hankkeesta, jonka tavoitteena on tukea neuropsykiatrisia pulmia omaavien henkilöiden työ- ja toimintakykyä teknologian keinoin.</p>

<p>Hankkeen yhtenä toteutusmuotona on ollut Nepsy-Nurkka, josta saa tietoa ja vinkkejä arjen nepsy-pulmiin. Pilotteja Nepsy-Nurkasta on toteutettu viime vuonna Porin ja Kankaanpään kirjastoissa. Nurkan suunnittelussa on ollut mukana aistiystävällisen sisustuksen suunnittelija Paula Hellberg, joka kertoo puheenvuorossaan tarkemmin aistiesteettömyydestä ja aistiesteettömän nepsy-nurkan luomisesta kirjastoympäristöön.</p>

<p>Lopuksi kirjastovirkailija Teija Ruuhikorpi kertoo Nokian kirjaston Nepsy-lainaamosta, josta voi lainata neuropsykiatrisia apuvälineitä.</p>

<h2>Kohderyhmä ja ilmoittautuminen</h2>

<p>Koulutus sopii kaikille kirjastolaisille, jotka kohtaavat päivittäisessä työssään erilaisia asiakkaita kirjastossa. Koulutuksesta on hyötyä myös tiloja suunnitteleville ja ryhmiä kohtaaville kirjastolaisille.</p>

<p>Webinaariin mahtuu mukaan 70 osallistujaa.</p>

<p>Ilmoittaudu mukaan viimeistään 21.3. <a href="https://link.webropolsurveys.com/EP/EB64DC77E2B2B1C2">tästä linkistä</a>. Saat teams-linkin ilmoittautumisajan päätyttyä.</p>

<h2>Tuleeko tallenne?</h2>

<p>Tallenne on saatavilla koulutuksen jälkeen 14 vuorokauden ajan Uudenmaan alueen Liboppi-alustalla. Jos et ole vielä rekisteröitynyt Liboppiin, se onnistuu helposti omalla sähköpostisoitteella osoitteessa <a href="https://www.liboppi.fi">liboppi.fi</a>.</p>

LOCATION:Teams
END:VEVENT
END:VCALENDAR