BEGIN:VCALENDAR
VERSION:2.0
PRODID:-//kirjastotfi/procal//NONSGML v1.0//EN
BEGIN:VEVENT
DTSTART:20230217T100000
DTEND:20230217T115900
SUMMARY:Kirjasto demokratian edistäjänä – Summaindeksi kirjaston johdon työvälineenä 17.2.2023
DESCRIPTION:<p>Kirjasto demokratian edistäjänä – Summaindeksi kirjaston johdon työvälineenä.</p>

<p><strong>Tapahtuman tyyppi:</strong> Luento + keskustelua<br />
<strong>Kohderyhmä: </strong>Yleisten kirjastojen johtajat ja kehittäjät&nbsp;</p>

<p>Kirjaston toiminnan arviointia ja toiminnan kehittämistä varten voidaan muodostaa kokonaiskuva seurattavasta aiheesta kokoamalla samaan ryhmään kuuluvista fokusindikaattoreista koostuva summaindeksi. Summaindeksiä voidaan käyttää kirjaston johdon työkaluna päätöksenteossa.</p>

<p>Tässä työpajassa osallistujat keskustelevat ja arvioivat kirjaston roolia yhteiskunnassa kuvaavan summaindeksin muodostavien fokusattribuuttien suhteellisia painoarvoja.</p>

<p>Vielä ehdit ilmoittautua kolmanteen <strong>samansisältöisistä</strong> työpajoista:</p>

<p><a href="https://www.lyyti.in/SummaindeksiTyopajaIII">Työpaja III pe 17.2.2023 klo 10-12</a></p>

<p>Linkit:</p>

<p>Lisätiedot työpajoista sekä ilmoittautuminen <a href="https://www.kiwi.fi/x/44EfEw">tapahtumasivun kautta</a>.</p>

<p>Tiedot aiemmin pidetystä <a href="https://www.kiwi.fi/x/u4GgDg">Kohti uudenlaista mittausta -tapahtumasarjasta</a>.</p>

LOCATION:Zoom
END:VEVENT
END:VCALENDAR