BEGIN:VCALENDAR
VERSION:2.0
PRODID:-//kirjastotfi/procal//NONSGML v1.0//EN
BEGIN:VEVENT
DTSTART:20230222T090000
DTEND:20230222T153000
SUMMARY:Kulttuurista hyvinvointia ikääntyneille! Kohtaamisia kotona ja kirjastossa
DESCRIPTION:<p>Kirjastojen seniorityö on muutoksessa. Vanhojen hyvien toimintatapojen rinnalle on kehitettävä uusia tapoja toimia ja tavoittaa kasvavaa kohderyhmää. Yhteistyökumppanien löytäminen ja yhteistyö eri toimijoiden kesken on tärkeää.</p>

<p>Kirjasto 65 – Kohtaamisia kotona ja kirjastossa –hanke järjestää koulutuspäivän, jossa käsitellään näitä asioita. Kaiken takana on digikuilun kaventamisen lisäksi innostuksen säilyttäminen kirjallisuuteen ja lukemiseen.</p>

<p>Ohjelma:</p>

<p><span><span><strong><span>Kulttuurista hyvinvointia ikääntyneille! Kohtaamisia kotona ja kirjastossa</span></strong></span></span></p>

<p><span><span><span>Koulutuspäivä 22.2.23 Seinäjoen pääkirjasto, Jaaksi-sali</span></span></span></p>

<p><span><span><span>Koulutuspäivä on maksuton.</span></span></span></p>

<p><span><span>9.00 <span>-</span> 9.20 Aamukahvi</span></span></p>

<p><span><span>9.20 -&nbsp;9.<span>30 </span>Tervetuloa<span>/ </span>kirjastotoimenjohtaja <span>Kirsti Länsikallio</span></span></span></p>

<p><span><span><span>9.30 -&nbsp; 9.55 </span>Kirjasto 65 - Kohtaamisia kotona ja kirjastossa -hankkeen esittely/ projektipäällikkö Jaana Savela</span></span></p>

<p><span><span>10.00 - 10.40 Ikäihmisen kohtaaminen / muistineuvoja Päivi Jussila/ E-P.n muistiyhdistys ry</span></span></p>

<p><span><span>10.45 - 11.30 K65 Kulttuurihyvinvointi – ikääntyvien kulttuurihyvinvointi suunnitelmissa ja käytännöissä Seinäjoella/ Ikääntyvien kulttuuritoiminnan koordinaattori Satu Kokkoniemi</span></span></p>

<p><span><span>11.30 – 12.30 Lounas <span>(omakustanteinen)</span></span></span></p>

<p><span><span>12.30 – 13.00 Kohtaamista ja ohjaamista oppimassa - SeAMK:n Kirjasto- ja tietopalvelualan opiskelijoiden ja opettajan kokemuksia yhteistyöstä Kirjasto 65-hankkeessa / lehtori Sari Mäkinen-Laitila </span></span></p>

<p><span><span>13.05 – 14.00 Kulttuurista arjen voimaa/ TeT, dos.Pia Houni</span></span></p>

<p><span><span>14.00 - 14.15 Päiväkahvit</span></span></p>

<p><span><span>14.15 - 15.15 Kulttuurista arjen voimaa jatkuu /TeT, dos.Pia Houni</span></span></p>

<p><span><span>Loppukeskustelu </span></span></p>

LOCATION:Seinäjoen kaupunginkirjasto, Jaaksi-sali, Alvar Aallon katu 14
END:VEVENT
END:VCALENDAR