BEGIN:VCALENDAR
VERSION:2.0
PRODID:-//kirjastotfi/procal//NONSGML v1.0//EN
BEGIN:VEVENT
DTSTART:20230112T090000
DTEND:20230112T133000
SUMMARY:Valtakunnallinen Liboppi-päivä – Opintopiirit ja yhteisöllinen oppiminen Libopissa
DESCRIPTION:<p>AKE-kirjastot järjestävät 12.1.2023 valtakunnallisen Liboppi-päivän, jossa tutustutaan erilaisiin oppimistapoihin Libopissa sekä kuullaan vertaisoppimisesta. Etänä Zoomissa toteutettava päivä on jaettu kahteen osioon: aamupäivällä tutustutaan eri oppimisen muotoihin, iltapäivällä on mahdollisuus saada käytännön opetusta Liboppiin kirjautumisessa sekä muodostaa opintopiirejä kiinnostuksen mukaan.</p>

<p>Aamupäivän luentovieraana on <strong>Piia Keihäs</strong> eOppimiskeskuksesta, joka kertoo opintopiireistä vertaisoppimisen välineenä erityisesti verkkoympäristössä. Päivän juontajana toimii Libopin sisällöntuotantovastuuseen siirtyvä AKE Porvoo. Päivä on suomenkielinen, mutta voit kysyä tai kommentoida myös ruotsiksi.</p>

<h2>Ohjelma</h2>

<p>9–9.20&nbsp; Liboppi on täynnä mahdollisuuksia (AKE Tampere)<br />
9.20–10.05&nbsp; Vertaisoppimismallit ja opintopiirit verkossa (Piia Keihäs, Suomen eOppimiskeskus ry)<br />
10.05–10.20&nbsp; Tauko<br />
10.20–11.10 Opintopiirit Libopissa (AKEt Turku, Lahti ja Rovaniemi)<br />
11.10–11.30 Libopin ajankohtaiset (AKE Turku)</p>

<p>11.30–12.30 Lounastauko</p>

<p>12.30–13.30 Vaihtoehtoista ohjelmaa, valitse näistä:<br />
A) Liboppia aloittelijoille – tekninen opastus virtuaalisesta kädestä pitäen (AKE Turku)<br />
B) Omien opintopiirien organisointi, AKEn avustuksella tai ilman (AKEt)</p>

<p>&nbsp;</p>

<h2>Kohderyhmä ja ilmoittautuminen</h2>

<p>Koulutuspäivä on suunnattu kaikille yleisten kirjastojen työntekijöille ympäri Suomen. Ilmoittaudu mukaan 10.1. mennessä&nbsp;<a href="https://zef.fi/s/20kecxi6/">tästä linkistä</a>. Saat Zoom-linkin, kun ilmoittautuminen on päättynyt.</p>

<p>&nbsp;</p>

<h2>Tuleeko tallenne?</h2>

<p>Koulutuksesta ei tule tallennetta. Parhaan hyödyn päivästä saat osallistumalla reaaliajassa Zoomissa.</p>

<p>&nbsp;</p>

<p><em>Ai mikä Liboppi? Liboppi on Suomen yleisten kirjastojen henkilökunnalle suunnattu verkko-oppimisympäristö osoitteessa&nbsp;<a href="https://liboppi.fi/">liboppi.fi</a>. Libopista löydät kirjastoalan ammattilaisille tarkoitettuja verkkokursseja, joita voit opiskella verkossa ajasta ja paikasta riippumatta.</em></p>

LOCATION:Zoom
END:VEVENT
END:VCALENDAR