BEGIN:VCALENDAR
VERSION:2.0
PRODID:-//kirjastotfi/procal//NONSGML v1.0//EN
BEGIN:VEVENT
DTSTART:20230112T090000
DTEND:20230112T133000
SUMMARY:Riksomafattande Liboppi-dag – Studiekretsar och gruppinlärning i Liboppi
DESCRIPTION:<p>AKE-biblioteken ordnar den 12 januari 2023 en riksomfattande Liboppi-dag, där vi bekantar oss med olika slags inlärningsmetoder i Liboppi och får höra om kamratinlärning. Dagen ordnas på distans via Zoom och är indelad i två delar: på förmiddagen ser vi närmare på olika inlärningsmetoder, på eftermiddagen har vi en möjlighet att få undervisning i hur man i praktiken loggar in i Liboppi samt bildar studiekretsar enligt intresse.</p>

<p>Förmiddagens föreläsningsgäst är <strong>Piia Keihäs</strong> från eOppimiskeskus. Hon berättar om studiekretsar som medel för kamratinlärning, speciellt i onlinemiljö. AKE Borgå, som tar över som ansvarig för innehållsproduktionen i Liboppi, fungerar som konferencier för dagen. Programmet går på finska men du kan fråga och kommentera också på svenska.</p>

<h2>Program (på finska)</h2>

<p>9–9.20 Liboppi on täynnä mahdollisuuksia (AKE Tampere)<br />
9.20–10.05 Vertaisoppimismallit ja opintopiirit verkossa (Piia Keihäs, Suomen eOppimiskeskus ry)<br />
10.05–10.20 Paus<br />
10.20–11.10 Opintopiirit Libopissa (AKEt Turku, Lahti ja Rovaniemi)<br />
11.10–11.30 Libopin ajankohtaiset (AKE Turku)<br />
11.30–12.30 Lunch<br />
12.30–13.30 Alternativa program, välj mellan dessa:<br />
A) Liboppia aloittelijoille – tekninen opastus virtuaalisesta kädestä pitäen (AKE Turku)<br />
B) Omien opintopiirien organisointi (AKEt)</p>

<h2>Målgrupp och anmälan</h2>

<p>Utbildningsdagen riktar sig till alla som jobbar på allmänna bibliotek i Finland. Anmäl dig senast den 10 januari&nbsp;<a href="https://zef.fi/s/20kecxi6/">via den här länken</a>. Du får en Zoom-länk när anmälningstiden gått ut.</p>

<h2>Bandas utbildningen?</h2>

<p>Nej, den här utbildningen kan inte ses i efterskott. Du är däremot välkommen i realtid i Zoom.</p>

<p><em>Liboppi är en inlärningsmiljö på webben riktad till personalen på allmänna bibliotek. Den hittas på adressen&nbsp;<a href="https://liboppi.fi/">liboppi.fi</a>. I Liboppi hittar du kurser avsedda för professionella inom biblioteksbranschen. Du kan gå kurserna på nätet oberoende av tid och rum.</em></p>

LOCATION:Zoom
END:VEVENT
END:VCALENDAR