BEGIN:VCALENDAR
VERSION:2.0
PRODID:-//kirjastotfi/procal//NONSGML v1.0//EN
BEGIN:VEVENT
DTSTART:20230126T100000
DTEND:20230126T151500
SUMMARY:Yhdenvertaisempaa pelikasvatusta – koulutus
DESCRIPTION:<p>Porin kaupunginkirjaston Kaikki pelissä! – pelikasvatusta kirjastoon-hankkeen järjestämässä koulutuksessa suunnataan katse pelikulttuurien ja pelaamisen yhdenvertaisuuteen ja tasa-arvoon. Koulutus toimii sekä jatkona joulukuussa järjestettyyn Lounais-Suomen AKE:n pelikasvatuksen koulutuspäivään, että omana tiiviinä pakettinaan teemojen tiimoilta. Tervetuloa mukaan kuulemaan tärkeästä aiheesta!</p>

<p>Koulutus lähetetään myös verkon välityksellä suoratoistona. Ilmoittauduthan Lyytissä mukaan saadaksesi koulutuslinkin. Paikan päällä osallistujille järjestetään iltapäivällä kahvitus.</p>

<p><a href="https://www.lyyti.fi/reg/Yhdenvertaisempaa_pelikasvatusta_koulutus_7190">Ilmoittaudu</a> mukaan 20.1.2023 mennessä.</p>

<p>&nbsp;</p>

<p>&nbsp;</p>

<p><strong>Ohjelma</strong></p>

<p>Klo 10.00 Päivän avaus</p>

<p>10.15 – 11.00 Mikko Meriläinen: Monimuotoinen pelaajakunta</p>

<p>11.00-11.45 Usva Friman: Yhdenvertaisuus kilpapelaamisessa</p>

<p>11.45 – 12.30 Lounas</p>

<p>12.30-13.30 Sini Häyrinen: Yleiskatsaus pelaamiseen ja Suomen pelialaan</p>

<p>13.30 – 14.30 Sonja Ahtiainen, Riikka Lehtinen: Non-toxic ­­­­­­­­­­­­­­­­­­­­­­­− Syrjimätön pelikulttuuri</p>

<p>14.30 Kahvitauko</p>

<p>14.45 – 15.15 Paneelikeskustelu: Päivän ohjelmanpitäjät ja ammattitaitoiset pelikasvattajat pohtivat päivän antia ja teemoja, sekä vastailevat osallistujien mieltä askarruttaviin kysymyksiin. Kysymyksiä voit esittää myös etukäteen <a href="https://padlet.com/annaheinonen3/dcwr5vkpz2wczxz4">padletin kautta</a>.</p>

LOCATION:Porin pääkirjasto, Teams
END:VEVENT
END:VCALENDAR