BEGIN:VCALENDAR
VERSION:2.0
PRODID:-//kirjastotfi/procal//NONSGML v1.0//EN
BEGIN:VEVENT
DTSTART:20221212T120000
DTEND:20221212T130000
SUMMARY:Level up -pelioppaan julkistustilaisuus
DESCRIPTION:<p><strong>Level up -pelioppaan julkistustilaisuus</strong></p>

<p>Pirkanmaan ja Keski-Suomen (AKE Tampere) kehittämiskirjasto on julkaissut oppaan kirjastojen peliosaamisesta. Kyseessä on jo viides Pirkanmaan ja Keski-Suomen kehittämiskirjastojen tuottama opas ja se käsittelee pelejä kirjastoissa niin aineistojen, pelitilojen, osaamisen kuin case-esimerkkienkin kautta.</p>

<p>Marraskuussa julkaistu Level up – kirjastojen pelimaailmat tutuiksi -opas kertoo monipuolisesti peleistä, pelaamisesta ja siitä, miten peleihin liittyviä asioita voidaan tuoda kirjastoissa esiin. Kirjastoista löytyy monenlaisia pelejä: perinteisten lauta- ja konsolipelien lisäksi kokoelmiin mahtuu myös esimerkiksi roolipelejä, ulkopelejä ja pakopelejä. Oppaasta hyötyvät kaikki kirjastolaiset – niin aloittelijat kuin pelikonkaritkin. Se toimii sekä ideavihkona että käsikirjana, ja tarjoaa teorian lisäksi paljon konkreettisia esimerkkejä pelimaailmaan liittyen. Se huomioi myös kirjaston pedagogisiin tehtäviin liittyvän pelillistämisen.</p>

<p>Oppaasta on tuotettu 500 kpl painos, jota jaetaan erityisesti Pirkanmaan ja Keski-Suomen kirjastoihin joulukuussa 2022. Oppaasta on julkaistu myös sähköinen versio, joka on vapaasti kaikkien saatavilla. Tutustu e-julkaisuun <a href="https://akepike.fi/julkaisut/peliopas/">täällä</a>.</p>

<p><strong>Level up -pelioppaan julkistustilaisuus<br />
Ma 12.12.2022 klo 12 - 13<br />
Teams</strong></p>

<p><a href="https://teams.microsoft.com/l/meetup-join/19%3ameeting_OWEzOTU0OWMtZjEzNy00ZGY4LTg2ZTAtNWYyMDQyMzUyODkx%40thread.v2/0?context=%7b%22Tid%22%3a%22dde5dc12-bd3c-4c06-85cc-34361efe9ad4%22%2c%22Oid%22%3a%22a6e6c490-5ad0-485c-ab96-2cb7bbc5f56a%22%7d">Osallistu ilman ennakkoilmoittautumista tällä Teams-linkillä.</a></p>

LOCATION:Teams
END:VEVENT
END:VCALENDAR