BEGIN:VCALENDAR
VERSION:2.0
PRODID:-//kirjastotfi/procal//NONSGML v1.0//EN
BEGIN:VEVENT
DTSTART:20230110T100000
DTEND:20230110T110000
SUMMARY:Kompetensprofiler för digistödjare
DESCRIPTION:<p>Hurdant digitalt stöd behövs på biblioteket, gäller det tekniska problem eller problem med att uträtta ärenden digitalt, eller bådadera? Hurdant kunnande behövs i digistödet?&nbsp;</p>

<p>Myndigheten för digitalisering och befolkningsdata (DVV) publicerar i slutet av året kompetensprofiler för digistödjare. Profilerna har kommit till tillsammans med digistödjare inom olika verksamheter för att hjälpa dem som ger digitalt stöd att uppfatta hurdant stöd olika kundgrupper vanligtvis kan behöva. De gör det också lättare att utveckla den egna kompetensen.&nbsp;</p>

<p>Samarbetsgruppen ÅKE ordnar ett webbinarium med <strong>Mirva Gullman</strong>, specialsakkunnig vid DVV, som berättar om kompetensprofilerna. Kom med och diskutera stödbehovet och sätten att hjälpa på biblioteket!&nbsp;</p>

<p>Anmäl dig senast 5.1.2023.</p>

LOCATION:Zoom
END:VEVENT
END:VCALENDAR