BEGIN:VCALENDAR
VERSION:2.0
PRODID:-//kirjastotfi/procal//NONSGML v1.0//EN
BEGIN:VEVENT
DTSTART:20230123T100000
DTEND:20230123T154500
SUMMARY:Kirjallisuutta, musiikkia ja pelejä aikuisille –  Kirjasaari 23.1.2023
DESCRIPTION:<h2>VUODEN 2022 PARHAAT TARINAT! 23.-25.1.2023</h2>

<p>Kirjasaari on kaikille avoin tapahtumasarja, jossa kirjastojen henkilökunta esittelee edellisen vuoden parhaimmat lasten, nuorten ja aikuisten aineistot. Mukana on joka vuosi myös vierailevia esiintyjiä.</p>

<p>Kirjasaari järjestetään Oulussa, kulttuuritalo Valveella, Hallituskatu 7. Kirjasaaren ohjelma myös&nbsp;striimataan kokonaisuudessaan&nbsp;<a href="https://www.youtube.com/channel/UCZ1sTA09MFoYBtpJNcmC3GQ">Oulun kaupunginkirjaston YouTube-kanavalle</a>. Tallenteet tulevat katsottavaksi tapahtumaviikon jälkeen.</p>

<p>Ilmoittaudu mukaan joko kulttuuritalo Valveelle tai etälähetykseen. Ilmoittautumislinkit löydät&nbsp;<a href="https://kirjastossatavataan.fi/koulutuskalenteri/">Kirjastossa Tavataan -sivuston koulutuskalenterista</a>.</p>

<p>Kirjasaaren aikuisten päivänä esitellään vuoden 2022 kirjoja, pelejä ja musiikkia. Vinkkejä kuullaan laajasti niin kaunokirjallisuuden eri lajeista kuin tietokirjallisuudestakin. Myös lautapelit, musiikki ja konsolipelit ovat mukana.</p>

<p>Kirjailijavieraaksi saapuu kulttuurin monitaituri, kirjailija Rosa Liksom, jonka tapaamme Kulttuuritalo Valveen viihtyisässä Paljetti-kahvilassa.</p>

<p>Päivän tarkempi ohjelma löytyy <a href="https://kirjastossatavataan.fi/kirjasaari/">Kirjasaaren verkkosivulta</a>.</p>

LOCATION:Kulttuuritalo Valve
END:VEVENT
END:VCALENDAR