BEGIN:VCALENDAR
VERSION:2.0
PRODID:-//kirjastotfi/procal//NONSGML v1.0//EN
BEGIN:VEVENT
DTSTART:20221128T123000
DTEND:20221128T153000
SUMMARY:Presentationer och Teams för bibliotekspersonal
DESCRIPTION:<p>Är du nyfiken på hur du kan göra fina presentationer i till exempel Powerpoint och Canva? Vill du veta mer om hur du lyckas med bra möten och presentationer i Teams? Då är den här utbildningen för dig. Under tre timmar går vi bl.a. igenom olika funktioner i Powerpoint, Canva och Teams och diskuterar hur man kan tänka kring upplägg och interaktion.</p>

<p>Utbildningen formas utgående från de behov som ni deltagare har, så du får gärna höra av dig med önskemål till utbildaren Linda Mannila (<a href="mailto:linda@digismart.fi">linda@digismart.fi</a>) redan på förhand!</p>

<p>Utbildningen innehåller praktiska övningar och kräver grundläggande datoranvändningskunskaper men inga specialkunskaper.</p>

<p>Länken till utbildningen skickas till deltagarna före utbildningen.</p>

<h2>Anmälning</h2>

<p>Anmäl dig via länken nedan. Högsta deltagarantalet är 20. Kom ihåg att annulera din anmälning om du får hinder.</p>

<p><a href="https://link.webropolsurveys.com/EP/F52671D785F16730"><strong>Anmälningsblankett</strong></a></p>

LOCATION:på distans
END:VEVENT
END:VCALENDAR