BEGIN:VCALENDAR
VERSION:2.0
PRODID:-//kirjastotfi/procal//NONSGML v1.0//EN
BEGIN:VEVENT
DTSTART:20221118T093000
DTEND:20221118T160000
SUMMARY:Nylands biblioteksdag 2022 - Biblioteket som syns och gör skillnad 
DESCRIPTION:<p>Välkommen på den årliga biblioteksdagen för Nylands bibliotek. Den här gången träffas vi på det splitternya Lippulaivabiblioteket Esbo! Temat för Nylands biblioteksdag är i år biblioteket som syns och gör skillnad Dagens anföranden behandlar ur många olika synvinklar den synlighet biblioteket och dess verksamhet har&nbsp;för medborgarna och beslutsfattarna. Hur påverkar synligheten bibliotekets slagkraft och hur kunde man utveckla synligheten och slagkraften med användaren i fokus? &nbsp;</p>

<p>Dagen öppnas av Laura Rissanen, ordförande för Finlands biblioteksförening och med lång erfarenhet av kommunalt beslutfattande. Noora Jokinen från Noon kollektiivi bjuder på en en timme lång föreläsning om beslutsfattarkommunikation. Projektarbetaren Matilda Almar från Sjundeå bibliotek berättar om hur man i demokratiprojekten på Ingå och Sjundeå bibliotek kommer att främja dialogen mellan beslutsfattarna och kommuninvånarna. Kommunikationssakkunniga Marjo Haatainen från e-biblioteksprojektet berättar om hur man i e-biblioteksprojektet ser på e-materialets synlighet. &nbsp;</p>

<p>Själva möteslokalen spelar självklart en viktig roll för&nbsp;årets biblioteksdag. De som deltar på plats och ställe bjuds på en guidad rundvandring i bibliotekets utrymmen. Som avslutning berättar Laura Euro från Esbo stadsbibliotek om hur man genom tjänstedesign kan främja slagkraft. Laura har också varit nära involverad i planeringsprocessen för Lippulaivabiblioteket. &nbsp;</p>

<p>Det är också möjligt att delta på distans via Teams.&nbsp; Dagen avslutas med att behandla de egentliga mötesärendena för Nylands biblioteksmöte.  En del av presentationerna spelas in och kan ses senare.&nbsp;</p>

<p>Program &nbsp;</p>

<p>9.30 AKE bjuder på morgonkaffe &nbsp;</p>

<p>10.00 Miten kirjasto näkyy päättäjille? Laura Rissanen, ordförande, Finlands biblioteksförening &nbsp;</p>

<p>10.30 Päättäjäviestinnän tehopaketti. Noora Jokinen, specialist inom kommunikation, vd, Noon Kollektiivi &nbsp;</p>

<p>11.30–12.00 Hur kan biblioteken främja demokratin? Matilda Almar, projektarbetare, Sjundeå bibliotek &nbsp;</p>

<p>12.00- Lunch (på egen bekostnad) &nbsp;</p>

<p>13.00. E-kirjastohankkeella kirjaston e-aineistot näkyviksi. Marjo Haatainen, projektsakkunnig / kommunikation, e-biblioteksprojektet &nbsp;</p>

<p>13.30 Presentation av Lippulaivabiblioteket&nbsp;</p>

<p>14.15 Kaffepaus (AKE bjuder) &nbsp;</p>

<p>14.30 Palvelumuotoilulla vaikuttavuutta. Laura Euro, planerare, Esbo stadsbibliotek &nbsp;</p>

<p>15.00 Hälsningar från de allmänna bibliotekens råd. Malin Hollmén, chef för bibliotekstjänsterna, Borgå &nbsp;</p>

<p>15.20 Det regionala utvecklingsuppdragets verksamhetsplan 2023 och eventuella andra ärenden &nbsp;</p>

<p>16.00 Nylands biblioteksdag avslutas &nbsp;</p>

<p>Anmälning&nbsp;</p>

<p>Anmäl dig senast den 14.11. &nbsp;</p>

<p><a href="https://link.webropolsurveys.com/EP/8C8C2F74BE8C8400">Anmäl dig via den här länken &nbsp;</a></p>

LOCATION:Lippulaivabiblioteket
END:VEVENT
END:VCALENDAR