BEGIN:VCALENDAR
VERSION:2.0
PRODID:-//kirjastotfi/procal//NONSGML v1.0//EN
BEGIN:VEVENT
DTSTART:20221013T090000
DTEND:20221013T150000
SUMMARY:Lakepampas-pelikulttuurifestivaali 2 — Pelit yhteiskunnassa, kulttuurissa ja kirjastossa
DESCRIPTION:<p>Lakepampas-pelikulttuurifestivaalin toinen tuleminen käsittelee sitä, millainen vaikutus peleillä ja pelikulttuurilla on yhteiskuntaamme, miten pelit ovat läsnä tavalla tai toisella jokaisen elämässä ja millä tavoin pelit ja pelillisyys nivoutuvat kirjastoalan asiantuntijuuteen ja kirjaston palveluihin.</p>

<p>Pelien historia on pidempi kuin elokuvan, kirjallisuuden tai teatterin. Koulutuspäivän avaa pelitutkija&nbsp;<strong>Jaakko Stenros</strong><strong>in&nbsp;</strong>puheenvuoro, jossa hän käy läpi 5500 vuotta pelaamista, pohtii pelien ja leikin asemaa kulttuurissa ja kulttuurina, sekä summaa pelien kulttuurisen ja yhteiskunnallisen aseman muutosta viime vuosikymmeninä. Päivän aikana tutustumme myös digitaalisten pakopelien luomiseen&nbsp;<strong>Linda Mannilan&nbsp;</strong>johdolla sekä tulevaisuustyöskentelyn ja pelillisen tarinankerronnan yhdistämiseen Lasten ja nuorten säätiön Mahdolliset maailmat ‑pelissä&nbsp;<strong>Milla Minerva Mertasen&nbsp;</strong>kanssa. Iltapäivällä esittelyssä on pelejä erilaisille kohderyhmille ja päivän päätteeksi pääsemme keskustelemaan päivän annista pienryhmissä sekä kuulemaan esimerkkejä kirjastojen pelitoiminnasta.</p>

<p>&nbsp;</p>

<p><a href="https://link.webropol.com/ep/lakepampas2">Ilmoittaudu mukaan viimeistään 10.10.2022 aikana täällä. Linkki vie Webropol-lomakkeelle.</a></p>

<p>&nbsp;</p>

<h2>Ohjelma ja aikataulu</h2>

<p>Klo 9.00–9.15 Alkujuonto, Anneli Haapaharju ja Pasi Kangas</p>

<p>Klo 9.15–10.15 Pelit kulttuurina, Jaakko Stenros, Tampereen yliopisto</p>

<p>Klo 10.15–10.30 Tauko</p>

<p>Klo 10.30–11.15 Näin teet digitaalisen pakopelin, Linda Mannila</p>

<p>Klo 11.15–11.45 Mahdolliset maailmat ‑pelissä tulevaisuustyöskentely yhdistyy pelilliseen tarinankerrontaan, Milla Minerva Mertanen, Lasten ja nuorten säätiö</p>

<p>Klo 11.45–12.30 Lounas</p>

<p>Klo 12.30–13.45 Pelejä erilaisille kohderyhmille</p>

<ul>
	<li>Klo 12.30–12.55 Yhteisen tarinan ilta (eli kuinka järjestää osallisen tarinankerronnan sanataidetoimintaa ikäihmisille Yhteiset Tarinat-roolipelin avulla kirjastoissa), Heikki Marjomaa</li>
	<li>Klo 12.55–13.20 Kehitysvammaiset henkilöt ja pelaaminen, Tarja Tolonen</li>
	<li>Klo 13.20–13.45 Pelit ja kielen oppiminen, Linn Österås</li>
</ul>

<p>Klo 13.45–14.00 Kahvitauko</p>

<p>Klo 14.00–14.45 Pienryhmätyöskentelyä ja kirjastoesimerkkejä</p>

<p>Klo 14.45–15.00 Yhteenveto ja kiitokset, Anneli Haapaharju ja Pasi Kangas</p>

<p>Lakepampas-pelikulttuurifestivaalin järjestävät yhteistyössä Lahden ja Vaasan alueelliset kehittämiskirjastot. Festivaalin tunnelmat sosiaalisessa mediassa löydät tunnisteella <strong>#lakepampas</strong>.</p>

<p>&nbsp;</p>

<h2>Kohderyhmä</h2>

<p>Koulutuspäivä on suunnattu erityisesti Etelä-Karjalan, Kanta-Hämeen, Kymenlaakson ja Päijät-Hämeen sekä Etelä-Pohjanmaan, Pohjanmaan ja Keski-Pohjanmaan kirjastohenkilöstölle, mutta koulutuspäivään voi osallistua myös muualta Suomesta.</p>

<p>&nbsp;</p>

<h2>Lisätietoa</h2>

<p>Pasi Kangas<br />
mediakasvatuskoordinaattori<br />
Lahden kaupunginkirjasto,<br />
alueellinen kehittämistehtävä<br />
pasi.kangas@lahti.fi<br />
044 482&nbsp;6153</p>

<p>Anneli Haapaharju<br />
palvelusuunnittelija<br />
Vaasan kaupunginkirjasto,<br />
alueellinen kehittämistehtävä<br />
anneli.haapaharju@vaasa.fi<br />
040 149&nbsp;5924</p>

LOCATION:Zoom
END:VEVENT
END:VCALENDAR