BEGIN:VCALENDAR
VERSION:2.0
PRODID:-//kirjastotfi/procal//NONSGML v1.0//EN
BEGIN:VEVENT
DTSTART:20220928T083000
DTEND:20220928T160000
SUMMARY:Pelihommia ja uusia lukutaitoja
DESCRIPTION:<p>Pelihommia ja uusia lukutaitoja -koulutus on suunnattu lasten ja nuorten kirjastotyötä tekeville Savon ja Pohjois-Karjalan akealueilla. Tulossa on mainio päivä pelaamisen ja lukutaitojen parissa!</p>

<p><br />
<strong>Päivän ohjelma:</strong><br />
<br />
klo 8.30–9 aamukahvit, Kahvila Pilkku (ake tarjoaa)<br />
klo 9–11 Uudet lukutaidot - Osaamisen kuvaukset kirjastotyössä<br />
Kouluttajina projektiasiantuntija Sari Murtomaa ja projektisuunnittelija Leena Pylkkö, Kansallinen audiovisuaalinen instituutti<br />
<br />
klo 11–12 lounastauko (omakustanteinen)<br />
<br />
Klo 12-16 Peli-iltapäivä<br />
<br />
Pelihommiin meidät johdattaa Heikki Marjomaa Helsingin kaupunginkirjastosta. Sen jälkeen pääsemme työpajailemaan: aiheina on mm. pelitilat, -kokoelmat, -tapahtumat ja satutunnit.</p>

<p>Iltapäivän kahvitauon jälkeen päivä päätetään paneelikeskustelulla. &nbsp;</p>

<p><strong>Ilmoittautuminen:</strong><br />
<br />
Ilmoittaudu mukaan <a href="https://link.webropolsurveys.com/S/33B1EF760FE27F37">täällä</a><br />
<br />
Ilmoittaudu viimeistään ke 21.9.<br />
<br />
&nbsp;</p>

LOCATION:Joensuun pääkirjasto, Koskikatu 25
END:VEVENT
END:VCALENDAR