BEGIN:VCALENDAR
VERSION:2.0
PRODID:-//kirjastotfi/procal//NONSGML v1.0//EN
BEGIN:VEVENT
DTSTART:20221004T120000
DTEND:20221004T150000
SUMMARY:Hyvä peliliike: Pelistriimit ja Twitch kirjastossa
DESCRIPTION:<p><strong>Hyvä peliliike–PiKen pelikulttuuri nextille levelille -hanke nostaa kirjastojen peliosaamisen uudelle tasolle. Hankkeen tavoitteena on edistää peliosaamista alueella, kehittää yhteisöllistä pelaamista sekä pelillisiä palveluita ja lisätä pelikulttuuritietoisuutta alueen kirjastoissa. Hankkeen koulutukset jatkuvat syksyllä erilaisilla pelaamisen ilmiöihin liittyvillä sessioilla.</strong></p>

<h2>Aika, paikka ja ilmoittautuminen</h2>

<p><strong>Hyvä peliliike: Pelistriimit ja Twitch kirjastossa<br />
Ti 4.10.2022 klo 12.00 – 15.00<br />
Pääkirjasto Metso<br />
Metso Studio -tila Metson pohjakerroksessa</strong></p>

<p><a href="https://elomake.tampere.fi/lomakkeet/26434/lomake.html">Ilmoittaudu tilaisuuteen tällä lomakkeella 29.9. mennessä.</a></p>

<p>Tilaisuuteen mahtuu 20 osallistujaa ilmoittautumisjärjestyksessä.</p>

<h2>Ohjelma</h2>

<p>Klo 12.00 – 13.00 Ikkuna kirjastoon – striimaus kirjastopalvelun muotona, luento ja keskustelu</p>

<p>Klo 13.00 – 14.00 Tutustuminen Twitch-verkkoympäristöön</p>

<p>Klo 14.00 – 14.15 Kahvi</p>

<p>Klo 14.15 – 15.00 Demot ja koelähetys Twitch-verkkoympäristössä</p>

<p>Kouluttajana palvelukoordinaattori ja gamebrarian <strong>Heikki Marjomaa</strong> Helsingin kaupunginkirjastosta.</p>

<h2>Lisätiedot</h2>

<p>Pekka Ollikainen<br />
pekka.ollikainen(at)tampere.fi<br />
Tampereen kaupunginkirjasto</p>

LOCATION:Pääkirjasto Metso / Metso Studio
END:VEVENT
END:VCALENDAR