BEGIN:VCALENDAR
VERSION:2.0
PRODID:-//kirjastotfi/procal//NONSGML v1.0//EN
BEGIN:VEVENT
DTSTART:20221125T100000
DTEND:20221125T163000
SUMMARY:Ääntä ja äksöniä - lasten- ja nuortenkirjan monet muodot
DESCRIPTION:<p><span><span><span>10.00&nbsp;&nbsp;&nbsp;&nbsp;&nbsp;&nbsp;&nbsp;&nbsp;&nbsp;&nbsp;&nbsp;&nbsp;&nbsp;&nbsp;&nbsp;&nbsp;&nbsp; Seminaarin avaus</span></span></span></p>

<p><span><span><span>10.15&nbsp;&nbsp;&nbsp;&nbsp;&nbsp;&nbsp;&nbsp;&nbsp;&nbsp;&nbsp;&nbsp;&nbsp;&nbsp;&nbsp;&nbsp;&nbsp;&nbsp; <strong>Kuvakirjat ja datavisualisointi</strong></span></span></span></p>

<p><span><span><span>Kuvittaja Pirita Tolvanen</span></span></span></p>

<p><span><span><span>11.00&nbsp;&nbsp;&nbsp;&nbsp;&nbsp;&nbsp;&nbsp;&nbsp;&nbsp;&nbsp;&nbsp;&nbsp;&nbsp;&nbsp;&nbsp;&nbsp;&nbsp; <strong><span>Mitä äänikirjojen suosio tarkoittaa lasten- ja nuortenkirjallisuudelle</span></strong></span></span></span></p>

<p><span><span><span>Paneelikeskustelussa sähköisen kustantamisen liiketoimintapäällikkö Noora Al-Ani (Otava), liiketoiminnan kehityksestä vastaava Sari Forsström (BookBeat), näyttelijä, äänikirjan lukija Miiko Toiviainen; keskustelun vetäjänä väitöskirjatutkija Hanna Järvenpää (Jyväskylän yliopisto)</span></span></span></p>

<p><span><span><span>12.00-13.00&nbsp;&nbsp;&nbsp;&nbsp;&nbsp; Lounas (omakustanteinen)</span></span></span></p>

<p><span><span><span>13.00 &nbsp;&nbsp;&nbsp;&nbsp;&nbsp;&nbsp;&nbsp;&nbsp;&nbsp;&nbsp;&nbsp;&nbsp;&nbsp;&nbsp;&nbsp;&nbsp; <strong>Nuortenkirja siirtyy näyttämölle ja valkokankaalle</strong></span></span></span></p>

<p><span><span><span>Kirjailija ja käsikirjoittaja Juuli Niemi ja dramaturgi Antti Viitamäki keskustelevat Valoa valoa valoa -elokuvan ja Amiraali -näytelmän teosta, haastattelijana Mikko Saari</span></span></span></p>

<p><span><span><span>14.00&nbsp;&nbsp;&nbsp;&nbsp;&nbsp;&nbsp;&nbsp;&nbsp;&nbsp;&nbsp;&nbsp;&nbsp;&nbsp;&nbsp;&nbsp;&nbsp;&nbsp; Kahvi</span></span></span></p>

<p><span><span><span>14.30&nbsp;&nbsp;&nbsp;&nbsp;&nbsp;&nbsp;&nbsp;&nbsp;&nbsp;&nbsp;&nbsp;&nbsp;&nbsp;&nbsp;&nbsp;&nbsp;&nbsp; <strong>Kirjasta näyttelyksi</strong></span></span></span></p>

<p><span><span><span><span>Kuvittaja-kirjailija Sanna Pelliccioni esittelee lastennäyttelyn suunnittelua ja ideointia omien kokemustensa pohjalta</span></span></span></span></p>

<p><span><span><span>15.15&nbsp;&nbsp;&nbsp;&nbsp;&nbsp;&nbsp;&nbsp;&nbsp;&nbsp;&nbsp;&nbsp;&nbsp;&nbsp;&nbsp;&nbsp;&nbsp;&nbsp; <strong>Lasten- ja nuortenkirjafilmatisoinnit monilukutaidon tukena</strong></span></span></span></p>

<p><span><span><span>Koulukinon erityisasiantuntija Marjo Kovanen esittelee Koulukinon toimintaa ja materiaaleja&nbsp;&nbsp;&nbsp;&nbsp;&nbsp;&nbsp;&nbsp;&nbsp;&nbsp;&nbsp;&nbsp;&nbsp;&nbsp;&nbsp;&nbsp;&nbsp;&nbsp;&nbsp;&nbsp;&nbsp;&nbsp;&nbsp;&nbsp;&nbsp;&nbsp;&nbsp;&nbsp;&nbsp; lastenkirjoihin pohjautuvista elokuvista</span></span></span></p>

<p><span><span><span>16.00&nbsp;&nbsp;&nbsp;&nbsp;&nbsp;&nbsp;&nbsp;&nbsp;&nbsp;&nbsp;&nbsp;&nbsp;&nbsp;&nbsp;&nbsp;&nbsp;&nbsp; Päätössanat</span></span></span></p>

<p><span><span><span>16.30&nbsp;&nbsp;&nbsp;&nbsp;&nbsp;&nbsp;&nbsp;&nbsp;&nbsp;&nbsp;&nbsp;&nbsp;&nbsp;&nbsp;&nbsp;&nbsp;&nbsp; Seminaari päättyy</span></span></span></p>

LOCATION:Vapriikin auditorio
END:VEVENT
END:VCALENDAR