BEGIN:VCALENDAR
VERSION:2.0
PRODID:-//kirjastotfi/procal//NONSGML v1.0//EN
BEGIN:VEVENT
DTSTART:20221209T083000
DTEND:20221209T154000
SUMMARY:Musiikin valinnat 2022
DESCRIPTION:<p><strong>PiKe-alueen kirjastojen musiikkiosaajat luovat silmäyksen vuoden 2022 keskeisimpiin musiikkisisältöihin. Vetäjät käyvät tänä vuonna ilmestyneitä musiikin aineistoja laajasti eri genreistä sekä musiikin tyylilajeista – äänitteitä, nuotteja ja musiikkikirjoja, eklektisempää vaihtoehtomateriaalia unohtamatta.</strong></p>

<p>Tilaisuuden avaa musiikkitoimittaja <strong>Kare Eskola</strong>. Kare&nbsp;Eskola&nbsp;on vapaa musiikkitoimittaja ja kriitikko, joka työskentelee pääasiassa Yleisradiolle. Hänen viikoittainen ohjelmansa Välilevyjä on pyörinyt YLE Radio 1:ssä vuodesta 2007. Televisiolle hän oli mukana käsikirjoittamassa sarjaa Klassinen Suomi (2016). Lisäksi&nbsp;Eskola&nbsp;kirjoittaa lukuisiin lehtiin ja on toiminut monissa raadeissa ja asiantuntijatehtävissä.</p>

<h2>Aika, paikka ja ilmoittautuminen</h2>

<p><strong>Musiikin valinnat 2022<br />
Lehmus-Sali / Zoom<br />
Pe 9.12.2022<br />
Klo 8.30–15.40</strong></p>

<p>Päivä pyritään järjestämään hybriditoteutuksena sekä pääkirjasto Metsossa että Zoom-alustalla. Ilmoittautumislomakkeella voit valita itsellesi parhaan tavan osallistumiseen.</p>

<p><a href="https://elomake.tampere.fi/lomakkeet/26216/lomake.html">Ilmoittaudu 1.12. mennessä täällä.</a></p>

<h2>Ohjelma</h2>

<p>Klo 8.30–9.00 Ovet ja linjat auki – tervetuloa mukaan!</p>

<p>Klo 9.00–9.40 Keynote: Hyvän musiikin muuttuva hyvyys – Laadun määritelmä taidemusiikissa nyt ja pian / Kare Eskola, musiikkitoimittaja</p>

<p><em>Klo 9.40–9.50 Keskustelu</em></p>

<p>Klo 9.50–10.20 Banjosta banduraan – perinnesoittimia eri musiikkikulttuureista / Marjaana Hietala, tietopalvelusihteeri (Tampereen kaupunginkirjasto)</p>

<p><em>Klo 10.20–10.30 Keskustelu</em></p>

<p>Klo 10.30–11.00 Kuulumisia nuottihyllyltä ja e-musiikkipalveluiden maailmasta / Ilona Heinonen, kirjastonhoitaja (Tampereen kaupunginkirjasto)</p>

<p><em>Klo 11.00–11.10 Keskustelu</em></p>

<p>Klo 11.10–11.40 Sihinät ja suhinat – eli ambient ja muu ”sellainen” v. 2022 / Mikko Salonen, kirjastonhoitaja (Tampereen kaupunginkirjasto)</p>

<p><em>Klo 11.40–11.50 Keskustelu</em></p>

<p>Klo 11.50–12.30 <em>Lounastauko</em></p>

<p>Klo 12.30–13.00 Poimintoja DIY-punkin maailmasta 2022 / Arto Hietikko, vs. kirjastotoimenjohtaja (Ylöjärven kaupunginkirjasto)</p>

<p><em>Klo 13.00–13.10 Keskustelu</em></p>

<p>Klo 13.10–13.40 Klassisen ja nykymusiikin levytykset / Ilari Reuhkala, kirjastonhoitaja (Kangasalan kaupunginkirjasto)</p>

<p><em>Klo 13.40–13.50 Keskustelu</em></p>

<p>Klo 13.50–14.20 Suomalainen poprock vuonna 2022 / Ilkka Valpasvuo, palveluneuvoja (Tampereen kaupunginkirjasto)</p>

<p><em>Klo 14.20–14.30 Keskustelu</em></p>

<p>Klo 14.30–15.00 Mitä, miten ja miksi valitsemme? Musiikin valintatyö käytännössä / Juhani Koivisto, kirjastonhoitaja (Tampereen kaupunginkirjasto)</p>

<p>Klo 15.00–15.10 <em>Keskustelu</em></p>

<p>Klo 15.10–15.40 Yläsävelsarjoja ja kolmiulotteisuutta! Mielenkiintoisimmat musiikkituotannot 2022 ääniteknikon kuuntelukulmasta / Kalle Lehtinen, projektisuunnittelija (Tampereen kaupunginkirjasto)</p>

<h2>Lisätiedot</h2>

<p>Koordinaattori Jarkko Rikkilä<br />
<a href="tel:040 800 7828">040 800 7828</a> / jarkko.rikkila@tampere.fi</p>

<p><em>Tilaisuuden järjestää Tampereen kaupunginkirjasto. Tampereen kaupunginkirjastolla on alueellinen kehittämistehtävä Pirkanmaan ja Keski-Suomen alueella. Kuvat ja tunnelmat somessa, käytä tunnistetta: #akepike.</em></p>

LOCATION:Tampere, pääkirjasto Metso / Zoom
END:VEVENT
END:VCALENDAR