BEGIN:VCALENDAR
VERSION:2.0
PRODID:-//kirjastotfi/procal//NONSGML v1.0//EN
BEGIN:VEVENT
DTSTART:20220906T120000
DTEND:20220906T150000
SUMMARY:Hyvä peliliike: Pakopelityöpaja kirjastolaisille ti 6.9.
DESCRIPTION:<p><strong>Hyvä peliliike–PiKen pelikulttuuri nextille levelille -hanke nostaa kirjastojen peliosaamisen uudelle tasolle. Hankkeen tavoitteena on edistää peliosaamista alueella, kehittää yhteisöllistä pelaamista sekä pelillisiä palveluita ja lisätä pelikulttuuritietoisuutta alueen kirjastoissa. Hankkeen koulutukset jatkuvat syksyllä erilaisilla pelaamisen ilmiöihin liittyvillä sessioilla.</strong></p>

<h2>Aika, paikka ja ilmoittautuminen</h2>

<p><strong>Hyvä peliliike: Pelaamisen ilmiöt tutuksi – Pakopelityöpaja kirjastolaisille</strong></p>

<p><strong>Ti 6.9.2022</strong></p>

<p><strong>Klo 12.00 – 15.00</strong></p>

<p><strong>Pääkirjasto Metso, Lehmus-sali</strong></p>

<p><a href="https://elomake.tampere.fi/lomakkeet/26166/lomakkeet.html">Ilmoittaudu tilaisuuteen tällä lomakkeella 1.9. mennessä.</a> Tilaisuuteen mahtuu 20 kirjastolaista ilmoittautumisjärjestyksessä.</p>

<h2>Työpajan ohjelma ja sisältö</h2>

<p>Työpajassa käydään läpi pakopelejä kirjastokontekstissa. Mitä pakopelit kirjastossa ovat ja voisivat olla? Lisäksi kuullaan esimerkkejä erilaisista kirjastoihin tehdyistä pakopeleistä. Käytännöllisessä työpajaosuudessa osallistujat oppivat suunnittelemaan oman pakopelin. Työpajan lopuksi toteutetaan vielä oma minipakopeli.</p>

<p>Työpajan vetää ja fasilitoi Krista Jokinen, Finest Future.</p>

<h2>Lisätiedot</h2>

<p>Pekka Ollikainen<br />
pekka.ollikainen(at)tampere.fi<br />
Tampereen kaupunginkirjasto</p>

LOCATION:Pääkirjasto Metso, Lehmus-sali
END:VEVENT
END:VCALENDAR