BEGIN:VCALENDAR
VERSION:2.0
PRODID:-//kirjastotfi/procal//NONSGML v1.0//EN
BEGIN:VEVENT
DTSTART:20221109T120000
DTEND:20221111T160000
SUMMARY:Lukulystit-Läsfest 2022
DESCRIPTION:<p>Lukulystit-Läsfest-seminariet för barn- och ungdomsbiblioteksarbete ordnas 9-11.11.2022 i Tammerfors på temat<strong> ”biblioteket som stöd för barns och ungdomars välmående och mentala hälsa”</strong>. Det blir föreläsningar på toppnivå, inspirerande workshops, intressanta besöksmål och naturligtvis nätverkande med världens bästa kollegor!</p>

<p><strong>Programmet publiceras och anmälan öppnas&nbsp;på <a href="https://www.lukulystit.fi/">evenemangets webbsidor</a> 16.9.&nbsp;</strong>Skriv in datumet i din kalender och säkra din plats!</p>

LOCATION:
END:VEVENT
END:VCALENDAR