BEGIN:VCALENDAR
VERSION:2.0
PRODID:-//kirjastotfi/procal//NONSGML v1.0//EN
BEGIN:VEVENT
DTSTART:20220509T130000
DTEND:20220509T150000
SUMMARY:Rivstarta arbetet med läskunnigheten! ​Workshop om läskunnighetsprojekt för barn och unga
DESCRIPTION:<p><strong>Rivstarta arbetet med läskunnigheten!</strong><br />
​Workshop om läskunnighetsprojekt för barn och unga.</p>

<p>Söker du eller planerar du att för ditt biblioteks räkning söka extra statsunderstöd från RFV för att stärka de allmänna bibliotekens arbete med läskunnighet?</p>

<p>Vill du ha tips, svar på knepiga frågor eller att vi gemensamt funderar på hur ditt projekt kan genomföra den Nationella läskunnighetsstrategin?</p>

<p>Om svaret är ja, kom då och lyssna och diskutera på <strong>workshopen 9.5.2022 kl. 13-15.</strong></p>

<p>På plats finns också RFV:s kunniga tjänstepersoner som kommenterar och svarar på bibliotekens frågor.&nbsp;</p>

<p>Du behöver inte anmäla dig,<a href="https://bit.ly/3O7BXfG"> länken till evenemanget finns här</a>.</p>

<p>Det är bäst att ställa frågorna på förhand i <a href="https://bit.ly/3rmPW7J">Jamboard</a></p>

<p>Mera information:<br />
Lena Sågfors, 040 714 2173, lena.sagfors@kronoby.fi</p>

LOCATION:Microsoft Teams
END:VEVENT
END:VCALENDAR