BEGIN:VCALENDAR
VERSION:2.0
PRODID:-//kirjastotfi/procal//NONSGML v1.0//EN
BEGIN:VEVENT
DTSTART:20220518T093000
DTEND:20220518T153000
SUMMARY:De nyländska bibliotekens sommardag
DESCRIPTION:<p>De nyländska bibliotekens sommardag fokuserar i år på frågor som har att göra med din egen och din arbetsgemenskaps välmående. Sommardagen hålls i Borgå förnyade stadsbibliotek vars utrymmen du också har möjlighet att bekanta dig med. Dagen innehåller program på både svenska och finska och vi vill uppmuntra till tvåspråkigt umgänge.</p>

<p>Dagen påbörjas med <em>Fem tips för att motverka stress och öka arbetsglädje</em>. Föreläsningen hålls av av <strong>Amy Skogberg</strong> som är före detta FM-nivåns idrottare och numera mental tränare för idrottare, organisationer och privatpersoner. Skogberg ser sig som en förändringsagent som hjälper människor till positiv förändring och utveckling.</p>

<p>Förmiddagen andra gäst är författaren och populära bloggaren <strong>Eeva Kolu,</strong> vars bok Korkeintaan vähän väsynyt, är en av de mest omtalade och lästa boken om utbrändhet under de senaste åren. Kolu talar för oss om återhämtning.</p>

<p>Under eftermiddagen har vi möjligheten att fundera på vårt eget arbete med hjälp av ett par lätta uppgifter. Målsättningen är att fungera på faktorer som orsakar belastning i vår arbetsvardag och hur vi kunde motverka dem.</p>

<p>Vi får också gå en guidad rundtur i förnyade Borgå stadsbibliotek. Ake Borgå bjuder på morgon- och eftermiddagskaffe. Lunchen bekostar deltagarna själv. Deltagarna ansvarar för sina egna resekostnader.</p>

<p>De nyländska bibliotekens sommardag är riktad till alla som jobbar i allmänna bibliotek i Nyland. Förmiddagens presentationer strömmas via internet. Vi rekommenderar att ni vid mån av möjlighet ser dem med kolleger och diskuterar temat.</p>

<h2>Program</h2>

<p>9.30. Morgonkaffe och välkomstord.&nbsp; <strong>Malin Hollmén</strong>, chef för bibliotekstjänsterna</p>

<p>10.00-11.00 Må bra på jobbet! Fem tips för att motverka stress och öka arbetsglädjen. <strong>Amy Skogberg</strong>, mental tränare</p>

<p>11.00 Paus</p>

<p>11.15 Palautumisesta. <strong>Eeva Kolu,</strong> freelancer, innehållsproducent, företagare.</p>

<p>12.00 Lunch</p>

<p>13.00 Grupparbete</p>

<p>14.00 Kaffepaus</p>

<p>14.15–15.00 Grupparbete fortsätter</p>

<p>15.00 Återhämtande aktivitet. Slutreflektion och planering av gemensamma utvecklingsåtgärder</p>

<p>15.30 Dagen avslutas</p>

<h2>Anmälning</h2>

<p>Anmäl dig senast den 12.5. <a href="https://link.webropolsurveys.com/EP/0B50A55C90A97CB5">med den här blanketten</a></p>

LOCATION:Borgå stadsbibliotek
END:VEVENT
END:VCALENDAR