BEGIN:VCALENDAR
VERSION:2.0
PRODID:-//kirjastotfi/procal//NONSGML v1.0//EN
BEGIN:VEVENT
DTSTART:20220503T090000
DTEND:20220503T140000
SUMMARY:Hyvä peliliike: Pelaamisen pimeät puolet ti 3.5.
DESCRIPTION:<p><strong>Hyvä peliliike–PiKen pelikulttuuri nextille levelille -hanke nostaa kirjastojen peliosaamisen uudelle tasolle. Hankkeen tavoitteena on edistää peliosaamista alueella, kehittää yhteisöllistä pelaamista sekä pelillisiä palveluita ja lisätä pelikulttuuritietoisuutta alueen kirjastoissa. Kevään pelitapahtumissa tutustutaan rooli- ja lautapeleihin kirjastoaineistoina, pohditaan pelivinkkausta ja piipahdetaan pimeydessä.</strong></p>

<p>Pelaamisen pimeät puolet sukeltaa syviin vesiin. Pelikulttuuriin liitetään paljon epämiellyttäviä ilmiöitä: riippuvuutta, kiusaamista, arveluttavia aihesisältöjä. Harhaluulot kukkivat etenkin pelejä vierastavien keskuudessa. Onko todellisuus niin synkkä kuin luullaan? Mitä keinoja kirjastolla on kampittaa pelaamisen todellisia lieveilmiöitä? Kuinka kirjasto voi vaalia yhdenvertaisuutta pelitiloissa ja -tapahtumissa? Valoa pimeyteen luovat paikallisten peliosaajien lisäksi <a href="https://seul.fi/non-toxic-gaming/">Non toxic -hankkeen</a> <strong>Sonja Ahtiainen</strong> ja <strong>Riikka Lehtinen</strong> sekä asiantuntija ja tutkija <strong><a href="https://mikkomerilainen.com/">Mikko Meriläinen</a></strong>.</p>

<h2>Aikataulu ja ilmoittautuminen</h2>

<p><strong>Pelaamisen pimeät puolet<br />
Ti 3.5.2022<br />
Klo 9.00–14.00<br />
Teams</strong></p>

<p>I<a href="https://elomake.tampere.fi/lomakkeet/25393/lomake.html">lmoittaudu 30.4. mennessä tällä lomakkeella.</a></p>

<h2>Ohjelma</h2>

<p>Klo 9.00–11.00 Non-Toxic – Syrjimätön pelikulttuuri / Sonja Ahtiainen &amp; Riikka Lehtinen (Helsingin kaupunginkirjasto)</p>

<p>Klo 11.00–12.00 Lounastauko</p>

<p>Klo 12.00–12.30 Pelien ikärajat kirjastossa / Maria Rissanen (Tampereen kaupunginkirjasto)</p>

<p>Klo 12.30–12.45 Tauko</p>

<p>Klo 12.45–13.45 Parempaa pelaamista: kirjastot ja pelihaittojen ehkäisy / Mikko Meriläinen</p>

<p>Klo 13.45–14.00 Tauko</p>

<p>Klo 14.00–15.00 Case: Perhekeskuksen ja kaupunginkirjaston lautapelikokeilu / Ann-Mari Leino (Tampereen kaupunki, varhaiskasvatus) &amp; Heta Salmela (Tampereen kaupunginkirjasto)</p>

<p><em>Tilaisuudet järjestetään Teams-alustalla. Esitykset tallennetaan, editoidaan ja tekstitetään PiKen kirjastoklubi -YouTube-kanavalle. Linkit tallenteisiin jaetaan ilmoittautuneille ja tilaisuuksien jälkeen akepiken koulutuskalenterissa.</em></p>

<h2>Lisätiedot, kysymykset ja kommentit</h2>

<p>Pekka Ollikainen<br />
pekka.ollikainen(at)tampere.fi<br />
Tampereen kaupunginkirjasto</p>

LOCATION:Teams
END:VEVENT
END:VCALENDAR